BEGIN:VCALENDAR
VERSION:2.0
PRODID:-// - ECPv6.15.20//NONSGML v1.0//EN
CALSCALE:GREGORIAN
METHOD:PUBLISH
X-ORIGINAL-URL:https://lepoche.be
X-WR-CALDESC:Évènements pour 
REFRESH-INTERVAL;VALUE=DURATION:PT1H
X-Robots-Tag:noindex
X-PUBLISHED-TTL:PT1H
BEGIN:VTIMEZONE
TZID:Europe/Paris
BEGIN:DAYLIGHT
TZOFFSETFROM:+0100
TZOFFSETTO:+0200
TZNAME:CEST
DTSTART:20210328T010000
END:DAYLIGHT
BEGIN:STANDARD
TZOFFSETFROM:+0200
TZOFFSETTO:+0100
TZNAME:CET
DTSTART:20211031T010000
END:STANDARD
BEGIN:DAYLIGHT
TZOFFSETFROM:+0100
TZOFFSETTO:+0200
TZNAME:CEST
DTSTART:20220327T010000
END:DAYLIGHT
BEGIN:STANDARD
TZOFFSETFROM:+0200
TZOFFSETTO:+0100
TZNAME:CET
DTSTART:20221030T010000
END:STANDARD
BEGIN:DAYLIGHT
TZOFFSETFROM:+0100
TZOFFSETTO:+0200
TZNAME:CEST
DTSTART:20230326T010000
END:DAYLIGHT
BEGIN:STANDARD
TZOFFSETFROM:+0200
TZOFFSETTO:+0100
TZNAME:CET
DTSTART:20231029T010000
END:STANDARD
END:VTIMEZONE
BEGIN:VEVENT
DTSTART;TZID=Europe/Paris:20220617T203000
DTEND;TZID=Europe/Paris:20220617T203000
DTSTAMP:20260421T122132
CREATED:20210904T133605Z
LAST-MODIFIED:20220615T144625Z
UID:1268-1655497800-1655497800@lepoche.be
SUMMARY:Vendredi 17 juin - Cabaret : Les Coquineries de Comedia
DESCRIPTION:Dans l’ambiance chaleureuse et décontractée du bar du théâtre\, laissez-vous emporter\, sans complexe\, par nos Coquines et Coquins qui vous dévoileront chansons\, sketches\, poésies\, et bien d’autres surprises sur le thème de l’érotisme.
URL:https://lepoche.be/agenda/vendredi-17-juin-cabaret-les-coquineries-de-comedia/
LOCATION:Le Poche Théâtre\, Rue du Fort\, 70\, Charleroi\, Hainaut\, 6000\, Belgique
CATEGORIES:Cabaret
ATTACH;FMTTYPE=image/jpeg:https://lepoche.be/wp-content/uploads/2021/09/coquineries-full_750.jpg
ORGANIZER;CN="Com%C3%A9dia 77":MAILTO:info@comedia-77.be
END:VEVENT
BEGIN:VEVENT
DTSTART;TZID=Europe/Paris:20220625T203000
DTEND;TZID=Europe/Paris:20220626T160000
DTSTAMP:20260421T122132
CREATED:20210904T153341Z
LAST-MODIFIED:20220601T131935Z
UID:1342-1656189000-1656259200@lepoche.be
SUMMARY:Les 25 et 26 juin - Humour : Illusions
DESCRIPTION:Vous aimez l’étrange\, le paranormal\, les coïncidences et les grands mystères de ce monde ? \nVenez assister à cette conférence humoristique qui traversera les moments où notre univers a craqué son slip! \nLa C compagnie vous propose ce spectacle original de et avec Christophe Maison\, assisté de main de maître par Marie Beguin. \n  \nInfos & réservations : \nchristophe14maison@gmail.com \n0471/41.82.26 \nTarifs:\nNormal : 14€  /  Moins de 18 ans\, artistes & retraités : 10€
URL:https://lepoche.be/agenda/les-25-et-26-juin-humour-illusions/
LOCATION:Le Poche Théâtre\, Rue du Fort\, 70\, Charleroi\, Hainaut\, 6000\, Belgique
CATEGORIES:Humour
ATTACH;FMTTYPE=image/png:https://lepoche.be/wp-content/uploads/2021/09/ILLUSIONS_750.png
END:VEVENT
END:VCALENDAR