BEGIN:VCALENDAR
VERSION:2.0
PRODID:-// - ECPv6.15.20//NONSGML v1.0//EN
CALSCALE:GREGORIAN
METHOD:PUBLISH
X-ORIGINAL-URL:https://lepoche.be
X-WR-CALDESC:Évènements pour 
REFRESH-INTERVAL;VALUE=DURATION:PT1H
X-Robots-Tag:noindex
X-PUBLISHED-TTL:PT1H
BEGIN:VTIMEZONE
TZID:Europe/Paris
BEGIN:DAYLIGHT
TZOFFSETFROM:+0100
TZOFFSETTO:+0200
TZNAME:CEST
DTSTART:20210328T010000
END:DAYLIGHT
BEGIN:STANDARD
TZOFFSETFROM:+0200
TZOFFSETTO:+0100
TZNAME:CET
DTSTART:20211031T010000
END:STANDARD
BEGIN:DAYLIGHT
TZOFFSETFROM:+0100
TZOFFSETTO:+0200
TZNAME:CEST
DTSTART:20220327T010000
END:DAYLIGHT
BEGIN:STANDARD
TZOFFSETFROM:+0200
TZOFFSETTO:+0100
TZNAME:CET
DTSTART:20221030T010000
END:STANDARD
BEGIN:DAYLIGHT
TZOFFSETFROM:+0100
TZOFFSETTO:+0200
TZNAME:CEST
DTSTART:20230326T010000
END:DAYLIGHT
BEGIN:STANDARD
TZOFFSETFROM:+0200
TZOFFSETTO:+0100
TZNAME:CET
DTSTART:20231029T010000
END:STANDARD
END:VTIMEZONE
BEGIN:VEVENT
DTSTART;TZID=Europe/Paris:20221105T150000
DTEND;TZID=Europe/Paris:20221105T150000
DTSTAMP:20260421T195128
CREATED:20221014T161618Z
LAST-MODIFIED:20221112T104026Z
UID:1951-1667660400-1667660400@lepoche.be
SUMMARY:Samedi 5 novembre - Enfants : Les Aventures du Capitaine Nova
DESCRIPTION:Dans tout l’Espace le Capitaine Nova cherche trésors et aventures. \nUn jour\, elle est chargée d’emmener des enfants explorer d’autres planètes et découvrir d’autres formes d’intelligences. \nAccompagnée de son fidèle robot T2\, ils vont parcourir l’Univers pour tenter de recevoir la merveilleuse récompense promise… \nCe voyage tout en chansons est un superbe prétexte à explorer les intelligences multiples. \nÀ voir à partir de 5 ans. \nTexte et chansons : Raphaël Sentjens \nMise en scène : Eglantine Wéry \nAvec William Clobus\, Laura Noël et Pierre Plume \nInfos & réservations : \n✉  info@lepoche.be \n☎  0493/766.755 \nNormal : 13€ / Artistes : 10 € / -10 ans : 7€ \nRéservations avec paiement à l’avance sur le compte BE11 7320 4914 9648 au nom de BUZZ RECORDS SRL (propriétaire du théâtre) avec la communication « NOVA 05/11/2022 »
URL:https://lepoche.be/agenda/samedi-5-novembre-enfants-les-aventures-du-capitaine-nova/
LOCATION:Le Poche Théâtre\, Rue du Fort\, 70\, Charleroi\, Hainaut\, 6000\, Belgique
CATEGORIES:Enfants
ATTACH;FMTTYPE=image/png:https://lepoche.be/wp-content/uploads/2022/10/Nova_750.png
ORGANIZER;CN="Le Poche":MAILTO:info@lepoche.be
END:VEVENT
BEGIN:VEVENT
DTSTART;TZID=Europe/Paris:20221111T203000
DTEND;TZID=Europe/Paris:20221119T203000
DTSTAMP:20260421T195128
CREATED:20220901T192458Z
LAST-MODIFIED:20220907T173657Z
UID:1869-1668198600-1668889800@lepoche.be
SUMMARY:Les 11\, 12\, 13\, 16\, 17\, 18 et 19 novembre - Théâtre : Le prénom
DESCRIPTION:CHAQUE ANNEE\, 800 000 NAISSANCES\, 800 000 PRENOMS\, 800 000 ENGUEULADES ! \nVincent\, golden boy de l’immobilier\, va être père pour la première fois. Invité à dîner chez Élisabeth et Pierre\, sa sœur et son beau-frère\, il y retrouve Claude\, un ami d’enfance. \nEn attendant l’arrivée d’Anna\, sa jeune épouse éternellement en retard\, on le presse de questions sur sa future paternité dans la bonne humeur générale… Mais quand on demande à Vincent s’il a déjà choisi un prénom pour l’enfant à naître\, sa réponse plonge la famille dans le chaos… \nLes choses vraiment importantes ne se partagent qu’entre proches… ou pas ! \nDates : 11\, 12\, 13 et 16\, 17\, 18\, 19 novembre 2022 \nHoraire : Me-Je : 19h30 / Ve-Sa: 20h30 / Di: 15h00 \nInfos & réservations : \n✉  theatreduchiche@gmail.com \n☎  0476/876 096 \nTarifs : 15€-12€ (prévente)* / Etudiants\, groupes (+ de 10 personnes) et + 65 ans : 10 € / – 12 ans : Gratuit \nCompte: BE59 1030 7782 8626 \nLe spectacle fait également partie de l’abonnement du Poche 2022-2023. \n* Attention : réserver sa place n’accorde pas automatiquement le tarif prévente.
URL:https://lepoche.be/agenda/les-11-12-13-16-17-18-et-19-novembre-theatre-le-prenom/
LOCATION:Le Poche Théâtre\, Rue du Fort\, 70\, Charleroi\, Hainaut\, 6000\, Belgique
CATEGORIES:Théâtre
ATTACH;FMTTYPE=image/jpeg:https://lepoche.be/wp-content/uploads/2022/09/Prenom_750.jpg
ORGANIZER;CN="Le Chiche Th%C3%A9%C3%A2tre":MAILTO:theatreduchiche@gmail.com
END:VEVENT
BEGIN:VEVENT
DTSTART;TZID=Europe/Paris:20221124T200000
DTEND;TZID=Europe/Paris:20221124T200000
DTSTAMP:20260421T195128
CREATED:20221031T192554Z
LAST-MODIFIED:20221120T213900Z
UID:1967-1669320000-1669320000@lepoche.be
SUMMARY:Jeudi 24 novembre - Théâtre : Molière se rebelle
DESCRIPTION:Le jour de l’inauguration du château de Versailles\, Louis XIV\, entouré de ses artistes préférés\, le musicien Lully\, Pierre Corneille\, Jean Racine\, Madame de la Fayette\, Blaise Pascal\, de la Fontaine\, de la Bruyère\, invite la Cour à accueillir Molière\, ce dernier lui ayant demandé audience pour réciter quelques vers. \nPour faire honneur au grand Racine\, Molière choisit de présenter un extrait de Phèdre. Ses comédiennes sont arrêtées dans leur élan par le Roi Soleil qui ne peut endurer plus longtemps leur prestation\, trop naturelle\, trop peu passionnée et douloureuse. \nSur l’invitation de Molière\, Louis\, grand amateur d’art\, se prête lui-même à l’exercice pour montrer l’exemple. \nAvant de prendre congé\, Molière demande la permission de faire entendre quelques vers de sa composition. Permission accordée\, sa troupe présente alors son nouveau spectacle… \nLe spectacle est un assemblage de textes\, en prose et en alexandrin\, tirés de différentes œuvres de Molière\, qui s’imbriquent les uns aux autres\, telles les pièces d’un puzzle\, et fusionnent grâce à la plume de Sarah Hennecart\, auteure du spectacle\, afin de raconter les péripéties de personnages typiquement moliériens. \nCette création originale est portée par la Compagnie du ClairObscur\, avec le soutien du Poche Théâtre\, de la Ville de Charleroi et de la Fédération Wallonie-Bruxelles\, et elle trouve son origine au sein d’un projet pédagogique plus large nommé ART-Sème. \nInfos & réservations : \n✉  info@clairobscurtheatre.be \n☎  0494/40.34.34 \nTarif: 15€  /  Moins de 26 ans : 10€ \nhttps://www.clairobscurtheatre.be
URL:https://lepoche.be/agenda/jeudi-24-novembre-theatre-moliere-se-rebelle/
LOCATION:Le Poche Théâtre\, Rue du Fort\, 70\, Charleroi\, Hainaut\, 6000\, Belgique
CATEGORIES:Théâtre
ATTACH;FMTTYPE=image/png:https://lepoche.be/wp-content/uploads/2022/10/MOLIERE24SOLD_750.png
ORGANIZER;CN="La compagnie du ClairObscur":MAILTO:info@clairobscurtheatre.be
END:VEVENT
BEGIN:VEVENT
DTSTART;TZID=Europe/Paris:20221125T200000
DTEND;TZID=Europe/Paris:20221125T200000
DTSTAMP:20260421T195128
CREATED:20221102T212649Z
LAST-MODIFIED:20221103T101606Z
UID:2013-1669406400-1669406400@lepoche.be
SUMMARY:Vendredi 25 novembre - Kostia : Entre-deux
DESCRIPTION:Coincé entre son ancienne vie d’homme marié et celle de papa fraîchement célibataire\, Kostia nous raconte avec humour et dérision comment il se retrouve contraint à jongler entre ses filles\, sa mère\, sa psy\, son ex-femme\, ses objets connectés et sa nouvelle vie sentimentale. \nIl nous embarque dans son quotidien\, ses péripéties et ses mésaventures\, sa vie d’homme et de papa moderne qui tente de retrouver ses marques et son équilibre dans cette nouvelle vie qui s’ouvre lui. \nDans son spectacle déjanté\, drôle et touchant\, Kostia pose un oeil subtil et décalé sur le monde qui l’entoure et dans lequel la place de l’homme a fortement évolué. \nhttps://www.youtube.com/watch?v=67m5YhBLtZE&t=9s \nInfos & réservations : \n✉  info@lepoche.be \n☎  0493/766.755 \nTarif : 15€ \nRéservations avec paiement à l’avance sur le compte BE11 7320 4914 9648 au nom de BUZZ RECORDS SRL (propriétaire du théâtre) avec la communication « KOSTIA 25/11/2022 »
URL:https://lepoche.be/agenda/vendredi-25-novembre-kostia-entre-deux/
LOCATION:Le Poche Théâtre\, Rue du Fort\, 70\, Charleroi\, Hainaut\, 6000\, Belgique
CATEGORIES:Humour
ATTACH;FMTTYPE=image/jpeg:https://lepoche.be/wp-content/uploads/2022/11/KOSTIA2_750.jpg
ORGANIZER;CN="Le Poche":MAILTO:info@lepoche.be
END:VEVENT
BEGIN:VEVENT
DTSTART;TZID=Europe/Paris:20221126T200000
DTEND;TZID=Europe/Paris:20221126T200000
DTSTAMP:20260421T195128
CREATED:20221102T210118Z
LAST-MODIFIED:20221102T210118Z
UID:2007-1669492800-1669492800@lepoche.be
SUMMARY:Samedi 26 novembre - Plateau d'artistes
DESCRIPTION:Toute la soirée\, laissez-vous surprendre à rêver ! \nUne scène ouverte regroupant de nombreux talents d’ici et d’ailleurs. \nInfos & réservations : \n✉  christophe14maison@gmail.com \n☎  0471/41.82.26 \nTarif: à votre bon coeur !
URL:https://lepoche.be/agenda/samedi-26-novembre-plateau-dartistes/
LOCATION:Le Poche Théâtre\, Rue du Fort\, 70\, Charleroi\, Hainaut\, 6000\, Belgique
CATEGORIES:Concert,Humour,Magie,Théâtre
ATTACH;FMTTYPE=image/png:https://lepoche.be/wp-content/uploads/2022/11/Scene-ouverte_750.png
END:VEVENT
BEGIN:VEVENT
DTSTART;TZID=Europe/Paris:20221130T193000
DTEND;TZID=Europe/Paris:20221130T193000
DTSTAMP:20260421T195128
CREATED:20221102T204952Z
LAST-MODIFIED:20221103T181918Z
UID:2001-1669836600-1669836600@lepoche.be
SUMMARY:Mercredi 30 novembre - Show Case : Saison 6 #1
DESCRIPTION:Projet initié par l’Athénée Royal Vauban\, en collaboration avec le conservatoire Arthur Grumiaux. \nUn spectacle mélangeant théâtre\, danse\, improvisation et humour pour une soirée en toute simplicité\, à la découverte de jeunes talents. \nTarif : 8 € \nInfos & réservations : \n✉  info@lepoche.be \n☎  0493/766.755 \nRéservations avec paiement à l’avance sur le compte BE11 7320 4914 9648 au nom de BUZZ RECORDS SRL (propriétaire du théâtre) avec la communication « SHOW CASE 30/11/2022 »
URL:https://lepoche.be/agenda/mercredi-30-novembre-show-case-saison-6-1/
LOCATION:Le Poche Théâtre\, Rue du Fort\, 70\, Charleroi\, Hainaut\, 6000\, Belgique
CATEGORIES:Concert,Théâtre
ATTACH;FMTTYPE=image/png:https://lepoche.be/wp-content/uploads/2022/11/SHOWCASE_750.png
ORGANIZER;CN="Le Poche":MAILTO:info@lepoche.be
END:VEVENT
END:VCALENDAR