BEGIN:VCALENDAR
VERSION:2.0
PRODID:-// - ECPv6.15.20//NONSGML v1.0//EN
CALSCALE:GREGORIAN
METHOD:PUBLISH
X-ORIGINAL-URL:https://lepoche.be
X-WR-CALDESC:Évènements pour 
REFRESH-INTERVAL;VALUE=DURATION:PT1H
X-Robots-Tag:noindex
X-PUBLISHED-TTL:PT1H
BEGIN:VTIMEZONE
TZID:Europe/Paris
BEGIN:DAYLIGHT
TZOFFSETFROM:+0100
TZOFFSETTO:+0200
TZNAME:CEST
DTSTART:20230326T010000
END:DAYLIGHT
BEGIN:STANDARD
TZOFFSETFROM:+0200
TZOFFSETTO:+0100
TZNAME:CET
DTSTART:20231029T010000
END:STANDARD
BEGIN:DAYLIGHT
TZOFFSETFROM:+0100
TZOFFSETTO:+0200
TZNAME:CEST
DTSTART:20240331T010000
END:DAYLIGHT
BEGIN:STANDARD
TZOFFSETFROM:+0200
TZOFFSETTO:+0100
TZNAME:CET
DTSTART:20241027T010000
END:STANDARD
BEGIN:DAYLIGHT
TZOFFSETFROM:+0100
TZOFFSETTO:+0200
TZNAME:CEST
DTSTART:20250330T010000
END:DAYLIGHT
BEGIN:STANDARD
TZOFFSETFROM:+0200
TZOFFSETTO:+0100
TZNAME:CET
DTSTART:20251026T010000
END:STANDARD
END:VTIMEZONE
BEGIN:VEVENT
DTSTART;TZID=Europe/Paris:20240614T203000
DTEND;TZID=Europe/Paris:20240614T203000
DTSTAMP:20260425T010711
CREATED:20240530T215504Z
LAST-MODIFIED:20240730T191744Z
UID:2890-1718397000-1718397000@lepoche.be
SUMMARY:Vendredi 14 juin - Cabaret : Les Coquineries de Comedia
DESCRIPTION:Dans l’ambiance chaleureuse et décontractée du bar du théâtre\, laissez-vous emporter\, sans complexe\, par nos Coquines et Coquins qui vous dévoileront chansons\, sketches\, poésies\, et bien d’autres surprises sur le thème de l’érotisme. \nInfos & réservations : \n✉  info@comedia-77.be \n☎  0491/280.220 \nTarif: 10€ \n \n 
URL:https://lepoche.be/agenda/vendredi-14-juin-cabaret-les-coquineries-de-comedia/
LOCATION:Le Poche Théâtre\, Rue du Fort\, 70\, Charleroi\, Hainaut\, 6000\, Belgique
CATEGORIES:Cabaret
ATTACH;FMTTYPE=image/jpeg:https://lepoche.be/wp-content/uploads/2024/05/coqui-sold_750.jpg
ORGANIZER;CN="Com%C3%A9dia 77":MAILTO:info@comedia-77.be
END:VEVENT
BEGIN:VEVENT
DTSTART;TZID=Europe/Paris:20240615T200000
DTEND;TZID=Europe/Paris:20240615T200000
DTSTAMP:20260425T010711
CREATED:20240530T213010Z
LAST-MODIFIED:20240730T191718Z
UID:2879-1718481600-1718481600@lepoche.be
SUMMARY:Samedi 15 juin - Théâtre : La bonne à tout (dé)faire
DESCRIPTION:Fanny et Bruno peinent à trouver une femme de ménage compétente. \nAprès avoir passé une nouvelle petite annonce\, Fanny semble satisfaite de la nouvelle candidate. \nMais Bruno s’aperçoit que la nouvelle bonne est une personne qu’il connaît très (trop ?) bien et que sa présence chez eux n’est pas souhaitable du tout… \nMais qui est cette bonne bonne ? \nInfos & réservations : \n✉  bsuin@me.com \n☎  0495/207.209 \nTarifs: 15€ / 12€ (prévente)
URL:https://lepoche.be/agenda/samedi-15-juin-theatre-la-bonne-a-tout-defaire/
LOCATION:Le Poche Théâtre\, Rue du Fort\, 70\, Charleroi\, Hainaut\, 6000\, Belgique
CATEGORIES:Théâtre
ATTACH;FMTTYPE=image/png:https://lepoche.be/wp-content/uploads/2024/05/bonne_750.png
ORGANIZER;CN="J7 Productions":MAILTO:bsuin@me.com
END:VEVENT
BEGIN:VEVENT
DTSTART;TZID=Europe/Paris:20240616T170000
DTEND;TZID=Europe/Paris:20240616T170000
DTSTAMP:20260425T010711
CREATED:20240606T103525Z
LAST-MODIFIED:20240730T191657Z
UID:2898-1718557200-1718557200@lepoche.be
SUMMARY:Dimanche 16 juin - Impro : Back to 90'S
DESCRIPTION:Cette fois les années 90 sont reines! \nVous serez plongés en immersion dans ces belles années! \nRappelez-vous… les chorégraphies des Backstreet Boys\, les clips des Spice Girls\, Victor et Nicky des Feux De l’Amour\, Hélène et les garçons (mais surtout Nicolas!)\, Nirvana\, IAM\, vos premiers téléphones\, vos premières fois à crier « Ne téléphonez pas! Je suis sur l’ordinateur ! »\, la chute du mur de Berlin\, etc… \nBref\, toute cette culture vous fera replonger dans vos vieux souvenirs! \nVous choisirez différents thèmes « Années 90 » et les improvisateurs vous rendront nostalgiques de cette belle époque en la mettant à l’honneur et en vous rappelant les pépites de cette décennie de folie ! \nInfos & réservations : \n✉  contact@latroupecarbone.be \n☎  0494/399.449 \nBilletterie : https://latroupecarbone.be/reservations/ \nTarifs:\nNormal : 10€ / Seniors & étudiants : 8€ / Moins de 12 ans : 5€ / Article 27
URL:https://lepoche.be/agenda/dimanche-16-juin-impro/
LOCATION:Le Poche Théâtre\, Rue du Fort\, 70\, Charleroi\, Hainaut\, 6000\, Belgique
CATEGORIES:Improvisation
ATTACH;FMTTYPE=image/jpeg:https://lepoche.be/wp-content/uploads/2024/06/carbone_a3_750.jpg
ORGANIZER;CN="La troupe Carbone":MAILTO:contact@latroupecarbone.be
END:VEVENT
BEGIN:VEVENT
DTSTART;TZID=Europe/Paris:20240621T203000
DTEND;TZID=Europe/Paris:20240622T203000
DTSTAMP:20260425T010711
CREATED:20240612T164837Z
LAST-MODIFIED:20240730T191631Z
UID:2909-1719001800-1719088200@lepoche.be
SUMMARY:Les 21 et 22 juin - Concert : Fedele Quartet
DESCRIPTION:Fedele Quartet regroupe 4 musiciens et amis : Fedele Lo Manto (chanteur)\, Fabrice Triquet (guitariste)\, Sébastien Dendal (violoncelliste et bassiste) et Sarah Triquet (clavieriste). \nEnsemble\, Ils reprennent\, de manière poétique et avec leurs propres influences musicales plusieurs chansons de Lucio Battisti\, chanteur italien de musique pop qui a eu un impact considérable sur la musique italienne. \nLe projet est acoustique\, les mélodies sont douces\, la complicité des musiciens se ressent. \nIls vous partageront également certaines de leurs compositions personnelles au sein de ce voyage musical. \nL’émotion\, l’originalité et le soleil d’Italie seront au rendez-vous. 🎶 \nInfos & réservations : \n☎  0477/88.17.33 \nTarifs:\nNormal : 12€  /  Etudiants & retraités : 10€
URL:https://lepoche.be/agenda/les-21-et-22-juin-concert-fedele-quartet/
LOCATION:Le Poche Théâtre\, Rue du Fort\, 70\, Charleroi\, Hainaut\, 6000\, Belgique
CATEGORIES:Concert
ATTACH;FMTTYPE=image/png:https://lepoche.be/wp-content/uploads/2021/09/fedele-quartet_750.png
END:VEVENT
BEGIN:VEVENT
DTSTART;TZID=Europe/Paris:20240622T160000
DTEND;TZID=Europe/Paris:20240622T160000
DTSTAMP:20260425T010711
CREATED:20240612T180140Z
LAST-MODIFIED:20240730T191609Z
UID:2917-1719072000-1719072000@lepoche.be
SUMMARY:Samedi 22 juin - Enfants : Pépito veut pas être clown
DESCRIPTION:Pépito ne veut pas être clown. \nUn spectacle de magie interactif\, drôle et touchant. \nÀ partir de 4 ans. \nInfos & réservations : \n☎  0498/26.96.05 \nTarif: 8€
URL:https://lepoche.be/agenda/samedi-22-juin-enfants-pepito-veut-pas-etre-clown/
LOCATION:Le Poche Théâtre\, Rue du Fort\, 70\, Charleroi\, Hainaut\, 6000\, Belgique
CATEGORIES:Enfants
ATTACH;FMTTYPE=image/jpeg:https://lepoche.be/wp-content/uploads/2024/06/pepito_750.jpg
END:VEVENT
END:VCALENDAR