BEGIN:VCALENDAR
VERSION:2.0
PRODID:-// - ECPv6.15.20//NONSGML v1.0//EN
CALSCALE:GREGORIAN
METHOD:PUBLISH
X-ORIGINAL-URL:https://lepoche.be
X-WR-CALDESC:Évènements pour 
REFRESH-INTERVAL;VALUE=DURATION:PT1H
X-Robots-Tag:noindex
X-PUBLISHED-TTL:PT1H
BEGIN:VTIMEZONE
TZID:Europe/Paris
BEGIN:DAYLIGHT
TZOFFSETFROM:+0100
TZOFFSETTO:+0200
TZNAME:CEST
DTSTART:20230326T010000
END:DAYLIGHT
BEGIN:STANDARD
TZOFFSETFROM:+0200
TZOFFSETTO:+0100
TZNAME:CET
DTSTART:20231029T010000
END:STANDARD
BEGIN:DAYLIGHT
TZOFFSETFROM:+0100
TZOFFSETTO:+0200
TZNAME:CEST
DTSTART:20240331T010000
END:DAYLIGHT
BEGIN:STANDARD
TZOFFSETFROM:+0200
TZOFFSETTO:+0100
TZNAME:CET
DTSTART:20241027T010000
END:STANDARD
BEGIN:DAYLIGHT
TZOFFSETFROM:+0100
TZOFFSETTO:+0200
TZNAME:CEST
DTSTART:20250330T010000
END:DAYLIGHT
BEGIN:STANDARD
TZOFFSETFROM:+0200
TZOFFSETTO:+0100
TZNAME:CET
DTSTART:20251026T010000
END:STANDARD
END:VTIMEZONE
BEGIN:VEVENT
DTSTART;TZID=Europe/Paris:20241025T203000
DTEND;TZID=Europe/Paris:20241102T203000
DTSTAMP:20260424T165359
CREATED:20240906T102359Z
LAST-MODIFIED:20241014T121645Z
UID:3142-1729888200-1730579400@lepoche.be
SUMMARY:Les 25\, 26\, 27\, 31 octobre\, 1er et 2 novembre - Théâtre : Hard copy
DESCRIPTION:Quatre employées de bureau obsédées par la réussite et la perfection\, évoquent leurs vies professionnelles\, familiales et … laissent libre cours à leurs fantasmes. \nToutes nourries par la même ambition: personnifier à l’extrême tous les diktats de la société jusqu’à ce que\, dans cette mécanique irréprochable\, quelque chose se détraque…. \nUne comédie grinçante d’Isabelle Sorente\, dans une mise en scène de Ludivine Rousseaux. \nAvec: Aurélie Hendrickx\, Sabine Pennetier\, Pauline Renaux et Laurence Seghin. \nDates: 25\, 26\, 27\, 31 octobre et 1\, 2 novembre 2024\nHoraire: J: 19h30 / V-S: 20h30 / D: 15h00 \n \nBuzz Radio · Interview : Hard copy (04/10/24)\n \nInfos & réservations : \n✉  info@comedia-77.be \n☎  0491/280.220 \nTarifs: 14€/12€ (prévente) / -26ans et +65ans: 12€/10€ (prévente) / -12ans: gratuit \nCompte: BE20 6116 4254 6056 \nLe tarif prévente est d’application uniquement lorsque l’argent de la réservation est versé sur le compte avant la représentation.\nEn cas de salle complète\, 5 minutes avant le début du spectacle\, nous nous réservons le droit de redistribuer votre réservation si vous ne vous êtes pas encore présenté à la billetterie.
URL:https://lepoche.be/agenda/les-25-26-27-31-octobre-1-et-2-novembre-theatre-hard-copy/
LOCATION:Le Poche Théâtre\, Rue du Fort\, 70\, Charleroi\, Hainaut\, 6000\, Belgique
CATEGORIES:Théâtre
ATTACH;FMTTYPE=image/jpeg:https://lepoche.be/wp-content/uploads/2024/09/hard-copy_750.jpg
ORGANIZER;CN="Com%C3%A9dia 77":MAILTO:info@comedia-77.be
END:VEVENT
BEGIN:VEVENT
DTSTART;TZID=Europe/Paris:20241108T200000
DTEND;TZID=Europe/Paris:20241108T200000
DTSTAMP:20260424T165359
CREATED:20241003T162346Z
LAST-MODIFIED:20241105T213156Z
UID:3233-1731096000-1731096000@lepoche.be
SUMMARY:Vendredi 8 novembre - Théâtre : J'ai rien à dire / Ma andi mangoul
DESCRIPTION:Est-ce qu’on vous a déjà proposé de débattre des violences policières en vous cuisinant un tajine ? \nNon ? Ça vous tente ? \nAlors venez découvrir un spectacle unique où l’humour grinçant et le théâtre documentaire se mêlent à la cuisine ! \nPréparez-vous à rire\, réfléchir\, et peut-être même à remettre en question votre rôle dans le système. \nRéservez vite pour ne pas manquer de goûter à cette expérience théâtrale à la sauce Ras El Hanout. \n \nTarifs : \nPrix libre de 5 à 50€ / Article 27: 1\,25€ \nSéance scolaire présentée à 11h. \nBilletterie en ligne : https://ras-el-hanout.be/spectacle/ma-andi-mangoul/
URL:https://lepoche.be/agenda/vendredi-8-novembre-theatre-jai-rien-a-dire-ma-andi-mangoul/
LOCATION:Le Poche Théâtre\, Rue du Fort\, 70\, Charleroi\, Hainaut\, 6000\, Belgique
CATEGORIES:Théâtre
ATTACH;FMTTYPE=image/png:https://lepoche.be/wp-content/uploads/2024/10/Affiche-Jai-rien-a-dire-2024-CHARLEROI_750.png
ORGANIZER;CN="Ras El Hanout":MAILTO:info@ras-el-hanout.be
END:VEVENT
BEGIN:VEVENT
DTSTART;TZID=Europe/Paris:20241109T160000
DTEND;TZID=Europe/Paris:20241109T200000
DTSTAMP:20260424T165359
CREATED:20241003T161042Z
LAST-MODIFIED:20241105T213250Z
UID:3224-1731168000-1731182400@lepoche.be
SUMMARY:Samedi 9 novembre - Théâtre : Li Fet Met
DESCRIPTION:La vie quotidienne dans les familles issues de l’immigration ? \nIl y a le papa qui n’est pas là\, la maman qui fait tout\, le fils qui n’est jamais content\, le grand père qui est de trop\, l’une qui veut son bien\, une autre qui veut à tout prix «réussir»\, et encore un autre qui n’a rien à dire\, car Li Fet Met\, le passé est mort. \nEt grâce au théâtre-forum\, c’est une pièce de théâtre dans laquelle le public intervient pour changer le cours de l’histoire. \nTarifs : \nPrix libre de 5 à 50€ / Article 27: 1\,25€ \n2 séances prévues : 16h & 20h \nBilletterie en ligne : https://ras-el-hanout.be/spectacle/li-fet-met/
URL:https://lepoche.be/agenda/samedi-9-novembre-theatre-li-fet-met/
LOCATION:Le Poche Théâtre\, Rue du Fort\, 70\, Charleroi\, Hainaut\, 6000\, Belgique
CATEGORIES:Théâtre
ATTACH;FMTTYPE=image/png:https://lepoche.be/wp-content/uploads/2024/10/Affiche-Li-fet-met-2024-CHARLEROI_750.png
ORGANIZER;CN="Ras El Hanout":MAILTO:info@ras-el-hanout.be
END:VEVENT
BEGIN:VEVENT
DTSTART;TZID=Europe/Paris:20241114T200000
DTEND;TZID=Europe/Paris:20241123T200000
DTSTAMP:20260424T165359
CREATED:20240708T130904Z
LAST-MODIFIED:20241110T214230Z
UID:2957-1731614400-1732392000@lepoche.be
SUMMARY:Les 14\, 15\, 16\, 17\, 20\, 21\, 22 et 23 novembre - Théâtre : L'Avare II
DESCRIPTION:L’avare 2\, une pièce de Pascal Vrebos écrite en 1992 est une suite de l’œuvre de Molière. \nUn voyage dans le temps plonge l’intrigue dans le 20ème siècle où l’électronique bat son plein et où le CPAS existe. \nLes thèmes de notre époque sont abordés avec un humour parfois grinçant. \nOn y retrouve Harpagon et son célèbre trésor convoité par ses enfants. \nÉlise et Cleante n’ont qu’un seul but : s’emparer de la fortune de leur père… \nLa famille évolue dans une demeure bruxelloise et mangée par la mérule. \nUn voyage imprévu dans le temps\, une comédie délirante et surprenante à la sauce Chiche avec des personnages décalés complètement déjantés ! \nDu mercredi au samedi à 20h et le dimanche à 15h. \n \nBuzz Radio · Interview : L’Avare II (11/10/24)\n \nInfos & réservations : \n✉  theatreduchiche@gmail.com \n☎  0498/725 456 \nTarifs : 18€-15€ (prévente)* / Etudiants et + 65 ans : 13 € / Groupes (+ de 10 personnes) : 10€ / – 12 ans : Gratuit \nCompte: BE59 1030 7782 8626 \nLe spectacle fait également partie de l’abonnement du Poche 2024-2025. \n* Attention : réserver sa place n’accorde pas automatiquement le tarif prévente.
URL:https://lepoche.be/agenda/les-14-15-16-20-21-22-et-23-novembre-theatre-lavare-ii/
LOCATION:Le Poche Théâtre\, Rue du Fort\, 70\, Charleroi\, Hainaut\, 6000\, Belgique
CATEGORIES:Théâtre
ATTACH;FMTTYPE=image/jpeg:https://lepoche.be/wp-content/uploads/2024/07/avare22_750.jpg
ORGANIZER;CN="Le Chiche Th%C3%A9%C3%A2tre":MAILTO:theatreduchiche@gmail.com
END:VEVENT
BEGIN:VEVENT
DTSTART;TZID=Europe/Paris:20241129T200000
DTEND;TZID=Europe/Paris:20241201T150000
DTSTAMP:20260424T165359
CREATED:20240906T125731Z
LAST-MODIFIED:20240906T130059Z
UID:3172-1732910400-1733065200@lepoche.be
SUMMARY:Du 29 novembre au 1er décembre - Théâtre : Avant de s'envoler
DESCRIPTION:André et Madeleine vivent ensemble depuis plus de cinquante ans\, si bien qu’ils sont devenus un seul et même être\, cimenté par la tendresse  et par le temps. \nMais le temps semble à l’orage et l’avenir est incertain. \nConscientes de ces difficultés\, leurs deux filles viennent passer le week-end chez eux pour les aider à trouver une nouvelle organisation… \nPersonne ne semble envisager l’avenir de la même façon… \nFlorian Zeller aborde ici le thème de la vieillesse et de la fin de vie\, écho au vécu de chaque spectateur. Tout le monde à l’occasion de vivre cette inversion des rôles : les enfants\, qui deviennent les parents de leurs propres parents. Il faut  accepter cette absence de cohérence afin de se laisser porter par l’émotion. \nAvec : Maurice Lebrun : le père ; Anne-Marie Grégoire : la mère ; Magali Smets : Anne\, la fille ; Fabienne Bavier : Elise\, la deuxieme fille ; Annik Dufour : une femme ; Pierre Bichart : un homme. \nInfos & réservations : \n☎  0496/52 90 86 \nTarif: 15€
URL:https://lepoche.be/agenda/du-29-novembre-au-1er-decembre-theatre-avant-de-senvoler/
LOCATION:Le Poche Théâtre\, Rue du Fort\, 70\, Charleroi\, Hainaut\, 6000\, Belgique
CATEGORIES:Théâtre
ATTACH;FMTTYPE=image/png:https://lepoche.be/wp-content/uploads/2024/09/Avant-de-senvoler_750.png
END:VEVENT
END:VCALENDAR