BEGIN:VCALENDAR
VERSION:2.0
PRODID:-// - ECPv6.15.20//NONSGML v1.0//EN
CALSCALE:GREGORIAN
METHOD:PUBLISH
X-ORIGINAL-URL:https://lepoche.be
X-WR-CALDESC:Évènements pour 
REFRESH-INTERVAL;VALUE=DURATION:PT1H
X-Robots-Tag:noindex
X-PUBLISHED-TTL:PT1H
BEGIN:VTIMEZONE
TZID:Europe/Paris
BEGIN:DAYLIGHT
TZOFFSETFROM:+0100
TZOFFSETTO:+0200
TZNAME:CEST
DTSTART:20240331T010000
END:DAYLIGHT
BEGIN:STANDARD
TZOFFSETFROM:+0200
TZOFFSETTO:+0100
TZNAME:CET
DTSTART:20241027T010000
END:STANDARD
BEGIN:DAYLIGHT
TZOFFSETFROM:+0100
TZOFFSETTO:+0200
TZNAME:CEST
DTSTART:20250330T010000
END:DAYLIGHT
BEGIN:STANDARD
TZOFFSETFROM:+0200
TZOFFSETTO:+0100
TZNAME:CET
DTSTART:20251026T010000
END:STANDARD
BEGIN:DAYLIGHT
TZOFFSETFROM:+0100
TZOFFSETTO:+0200
TZNAME:CEST
DTSTART:20260329T010000
END:DAYLIGHT
BEGIN:STANDARD
TZOFFSETFROM:+0200
TZOFFSETTO:+0100
TZNAME:CET
DTSTART:20261025T010000
END:STANDARD
END:VTIMEZONE
BEGIN:VEVENT
DTSTART;TZID=Europe/Paris:20250227T200000
DTEND;TZID=Europe/Paris:20250302T150000
DTSTAMP:20260424T105523
CREATED:20241112T210454Z
LAST-MODIFIED:20241112T211443Z
UID:3357-1740686400-1740927600@lepoche.be
SUMMARY:Du 27 février au 2 mars - Théâtre : La pluie viendra toujours du ciel
DESCRIPTION:Avertissement : Cette pièce aborde la thématique de la mort\, certains passages sont susceptibles d’heurter la sensibilité du public. \n« Pierre\, Angélique et Arthur ne savent plus quoi faire\, alors ils et elle font du café. \nLes trois ami·e·s viennent de perdre Milo\, leur pilier\, et cherchent à reprendre pied dans un monde toujours plus mouvant. \nCette quête fera cheminer leurs questionnements existentiels à travers leur relation\, marquée par des éclats de rire\, tout aussi incongrus que salutaires\, des colères douces-amères et une tendresse timide et acharnée. \nFace à l’hermétisme de la mort\, les vécus de la perte se font l’arène de la lutte du rationnel contre l’absurdité de la fatalité\, de l’effondrement jusqu’à la transcendance. » \nCRÉATION COLLECTIVE \nScénographie : Auriane Leclercq\nJeu et interprétation : Rachel D’Aietti\, François Jacob et Jérôme Lefèbvre\nTexte : Jérôme Lefèbvre\, avec les contributions de Rachel D’Aietti et François Jacob\nAssistanat\, diffusion & dramaturgie : Alice Goffaux.\n \nTarifs: \nNormal : 14€ (Prévente 12€) / Moins de 26 ans : 12€ (Prévente 10€) \nAchetez vos billets en ligne :\nVente de billets en ligne
URL:https://lepoche.be/agenda/du-27-fevrier-au-2-mars-theatre-la-pluie-viendra-toujours-du-ciel/
LOCATION:Le Poche Théâtre\, Rue du Fort\, 70\, Charleroi\, Hainaut\, 6000\, Belgique
CATEGORIES:Théâtre
ATTACH;FMTTYPE=image/png:https://lepoche.be/wp-content/uploads/2024/11/la-pluie_750.png
ORGANIZER;CN="Le Poche":MAILTO:info@lepoche.be
END:VEVENT
BEGIN:VEVENT
DTSTART;TZID=Europe/Paris:20250306T200000
DTEND;TZID=Europe/Paris:20250306T200000
DTSTAMP:20260424T105523
CREATED:20250124T115329Z
LAST-MODIFIED:20250304T203352Z
UID:3428-1741291200-1741291200@lepoche.be
SUMMARY:Jeudi 6 mars - Humour : Dena\, princesse guerrière
DESCRIPTION:Un pied à Bruxelles\, un pied en Flandre et le cœur en Iran. \nDena\, c’est 100.000 watts d’énergie positive ! \nD’origine iranienne\, cette jeune femme navigue entre deux cultures\, entre Orient et Occident\, avec énormément d’humour\, d’autodérision\, de tendresse et d’intelligence. \nDena est stand-uppeuse multifacette. \nElle joue son spectacle\, fait de la radio\, passe à la télé\, écrit des podcasts\, des séries et des articles\, et tout ça dans plusieurs langues. \nLa liberté est son moteur. \nEn tant que femme iranienne et homosexuelle\, elle profite de la plateforme qu’on lui donne pour crier son existence\, et celle de ses consœurs. \nTantôt douce et pétillante\, tantôt espiègle et émotionnelle\, Dena aurait pu être jongleur\, si ce n’était que pour vous faire chavirer. \nÉtant iranienne\, la poésie est dans son âme. \nBelge\, l’autodérision est dans son cœur. Flamande\, la rigueur dans son travail. \nCette princesse guerrière ne mène pas de guerre\, mais une quête vers un monde avec plus de rires et surtout plus de liberté. \nDe et par Dena Vahdani \nPhoto © Fahd Zidou \n \n \nBuzz Radio · Interview : Dena (17/02/25)\n \nTarif : 18€ \nAchetez vos billets en ligne : Jeudi 6 mars 2025 à 20h
URL:https://lepoche.be/agenda/jeudi-6-mars-humour-dena-princesse-guerriere/
LOCATION:Le Poche Théâtre\, Rue du Fort\, 70\, Charleroi\, Hainaut\, 6000\, Belgique
CATEGORIES:Humour
ATTACH;FMTTYPE=image/png:https://lepoche.be/wp-content/uploads/2025/01/Dena-Princesse-Guerriere_750.png
END:VEVENT
BEGIN:VEVENT
DTSTART;TZID=Europe/Paris:20250308T200000
DTEND;TZID=Europe/Paris:20250308T200000
DTSTAMP:20260424T105523
CREATED:20250116T143901Z
LAST-MODIFIED:20250116T144632Z
UID:3402-1741464000-1741464000@lepoche.be
SUMMARY:Samedi 8 mars - Eric Boschman : Ni dieux\, ni maîtres\, mais du rouge
DESCRIPTION:Le Wine Man Show by Eric Boschman « Ni dieux\, ni maître\, mais du rouge »\, c’est un litre et demi d’improvisations et de bonheurs ! \nUn spectacle à boire : l’histoire du vin racontée par le plus « barge » des sommeliers ! \nDevenez goûteur en vous instruisant. \nEric Boschman\, sommelier belge mondialement connu\, présente un véritable « wine man show » autour des vignes et des vins du monde. \nDrôlement impertinent\, professeur improvisé\, il traverse la grande Histoire\, et nous trimbale dans les vignobles de la Grèce au Liban\, du Chili à l’Argentine et l’Europe. \nEt de voyages en voyages\, il nous met cul par-dessus tête et nous enivre autant d’anecdotes que de ce nectar qui accompagne nos vies depuis des millénaires. \nEn passionné\, Eric Boschman partage « son gai savoir » à la manière d’un Rabelais moderne\, avec beaucoup d’esprit et une certaine irrévérence. \nMais que voulez-vous\, il n’a ni Dieu\, ni maître… Si vous aimez le rouge (ou le blanc)\, n’hésitez pas un seul instant ! Tchin ! \n \nTarif : 25€ \nAchetez vos billets en ligne :\nVente de billets en ligne
URL:https://lepoche.be/agenda/samedi-8-mars-eric-boschman-ni-dieux-ni-maitres-mais-du-rouge/
LOCATION:Le Poche Théâtre\, Rue du Fort\, 70\, Charleroi\, Hainaut\, 6000\, Belgique
CATEGORIES:Humour
ATTACH;FMTTYPE=image/png:https://lepoche.be/wp-content/uploads/2025/01/Wine2_750.png
ORGANIZER;CN="Le Poche":MAILTO:info@lepoche.be
END:VEVENT
BEGIN:VEVENT
DTSTART;TZID=Europe/Paris:20250314T200000
DTEND;TZID=Europe/Paris:20250315T200000
DTSTAMP:20260424T105523
CREATED:20240906T110255Z
LAST-MODIFIED:20250213T115851Z
UID:3156-1741982400-1742068800@lepoche.be
SUMMARY:Les 14 et 15 mars - Cabaret : C'est CULotté
DESCRIPTION:Deux heures de pur plaisir !!! \nUne création originale qui fait la part belle\, avec humour et tendresse\, à nos histoires d’amour et leurs aléas. \nDésir\, sexe\, couple et petits travers  seront passés à la loupe par nos comédiens et comédiennes dans une ambiance de café-théâtre\, en toute décontraction\, dans le bar du Poche Théâtre. \nMise en scène : Annick Poulain \nDistribution : Valentin Depreter\, Johanne Darcheville\, Charline Malaise\, Jose Martinez\, Tina Marzola\,  Cathy Minne\, Natalia Molano\, Catherine Sobry\,  Isabelle Vandesteen\, Audrey Vaccin\, et bien d’autres encore. \nRéservé aux +16 ans. \nInfos : \n✉  info@clairobscurtheatre.be \n☎  0494/40.34.34 \nLe spectacle est complet au Poche Théâtre\, mais une ultime représentation est proposée le samedi 23 août au Théâtre Marignan.
URL:https://lepoche.be/agenda/les-14-et-15-mars-cest-culotte/
LOCATION:Le Poche Théâtre\, Rue du Fort\, 70\, Charleroi\, Hainaut\, 6000\, Belgique
CATEGORIES:Cabaret
ATTACH;FMTTYPE=image/png:https://lepoche.be/wp-content/uploads/2024/09/culot_750_sold.png
ORGANIZER;CN="La compagnie du ClairObscur":MAILTO:info@clairobscurtheatre.be
END:VEVENT
BEGIN:VEVENT
DTSTART;TZID=Europe/Paris:20250320T200000
DTEND;TZID=Europe/Paris:20250323T150000
DTSTAMP:20260424T105523
CREATED:20241026T134658Z
LAST-MODIFIED:20250124T103728Z
UID:3344-1742500800-1742742000@lepoche.be
SUMMARY:Du 20 au 23 mars - Théâtre : L'invitation
DESCRIPTION:Il y a les amis d’enfance\, les amis que l’on voit\, ceux que l’on ne voit plus ou pas assez. \nEt puis il y a Charlie ! \nCharlie c’est l’ami imaginaire que Daniel a créé pour tromper son épouse sans éveiller les soupçons. \nCharlie c’était l’idée parfaite pour ne perdre ni sa femme\, ni sa situation\, ni son appartement\, ni sa maîtresse… \nJusqu’au jour où Catherine\, sa femme\, exaspérée peut-être\, suspicieuse sans doute\, impose à Daniel de le rencontrer pour un souper. \nPour sauver son mariage\, Daniel va donc devoir inviter à dîner un inconnu qui l’espace d’une soirée jouera le rôle de son meilleur ami. \nInventer ce Charlie était-ce une si bonne idée finalement ? \nInfos & réservations : \n☎  0497/44.32.96 \n✉  fabrice@iquiz.be \nPrévente : 12€  /  Sur place : 15€
URL:https://lepoche.be/agenda/du-20-au-23-mars-theatre-linvitation/
LOCATION:Le Poche Théâtre\, Rue du Fort\, 70\, Charleroi\, Hainaut\, 6000\, Belgique
CATEGORIES:Théâtre
ATTACH;FMTTYPE=image/jpeg:https://lepoche.be/wp-content/uploads/2024/10/invitation-2_750.jpg
ORGANIZER;CN="%C3%80 la Wanna Gain Productions":MAILTO:fabrice@wgprod.be
END:VEVENT
BEGIN:VEVENT
DTSTART;TZID=Europe/Paris:20250326T193000
DTEND;TZID=Europe/Paris:20250326T193000
DTSTAMP:20260424T105523
CREATED:20250310T140823Z
LAST-MODIFIED:20250310T141146Z
UID:3498-1743017400-1743017400@lepoche.be
SUMMARY:Mercredi 26 mars - Show Case : Saison 8 #2
DESCRIPTION:Projet initié par l’Athénée Royal Vauban\, en collaboration avec le conservatoire Arthur Grumiaux. \nUn spectacle mélangeant théâtre\, danse\, musique\, improvisation et humour pour une soirée en toute simplicité\, à la découverte de jeunes talents. \nTarif : 8 € \nInfos & réservations : \n✉  info@lepoche.be \n☎  0493/766.755 \nAchetez vos billets en ligne :\nVente de billets en ligne \nOu paiement à l’avance sur le compte BE11 7320 4914 9648 au nom de BUZZ RECORDS SRL (propriétaire du théâtre) avec la communication « SHOW CASE 26/03/2025 »
URL:https://lepoche.be/agenda/mercredi-26-mars-show-case-saison-8-2/
LOCATION:Le Poche Théâtre\, Rue du Fort\, 70\, Charleroi\, Hainaut\, 6000\, Belgique
CATEGORIES:Humour,Improvisation,Théâtre
ATTACH;FMTTYPE=image/png:https://lepoche.be/wp-content/uploads/2025/03/afficheshowcase_750.png
END:VEVENT
BEGIN:VEVENT
DTSTART;TZID=Europe/Paris:20250329T200000
DTEND;TZID=Europe/Paris:20250330T160000
DTSTAMP:20260424T105523
CREATED:20250214T163338Z
LAST-MODIFIED:20250214T163705Z
UID:3483-1743278400-1743350400@lepoche.be
SUMMARY:Les 29 et 30 mars - Théâtre : Range tant qu'il est temps !
DESCRIPTION:Yann: Pourquoi on range ? \nYouri: Arrête de danser et range ! \nYann: Pourquoi maintenant ? \nYouri: Je sais pas mais lâche ta baguette magique ! \nUne scène\, une montagne de carton\, deux frères\, 29 ans de souvenirs et 1h15 pour y mettre de l’ordre ! \nMagie\, danse\, acrobatie\, jonglerie… (et beaucoup de trucs qu’on ne sait pas encore) \nLa presse en parle :  »Des frères talentueux\, extraordinaire et magnifique » \nPapa\, Maman :  »Un spectacle chaleureux dans un théâtre convivial » \nBernard Baudaux\, directeur du Poche Théâtre :  »Une fraternité à croquer » \nLeurs amis :  »A mettre dans les mains des enfants qui doivent ranger leurs chambres et celles des grands qui mettent de l’ordre dans leurs pensées » (et pour tous ceux qui en ont marre de Netflix) \nInfos & réservations : \n☎  0498/26.96.05 \nTarif: 10€
URL:https://lepoche.be/agenda/les-29-et-30-mars-theatre-range-tant-quil-est-temps/
LOCATION:Le Poche Théâtre\, Rue du Fort\, 70\, Charleroi\, Hainaut\, 6000\, Belgique
CATEGORIES:Danse,Magie,Théâtre
ATTACH;FMTTYPE=image/png:https://lepoche.be/wp-content/uploads/2025/02/range_750.png
END:VEVENT
END:VCALENDAR