BEGIN:VCALENDAR
VERSION:2.0
PRODID:-// - ECPv6.15.20//NONSGML v1.0//EN
CALSCALE:GREGORIAN
METHOD:PUBLISH
X-ORIGINAL-URL:https://lepoche.be
X-WR-CALDESC:Évènements pour 
REFRESH-INTERVAL;VALUE=DURATION:PT1H
X-Robots-Tag:noindex
X-PUBLISHED-TTL:PT1H
BEGIN:VTIMEZONE
TZID:Europe/Paris
BEGIN:DAYLIGHT
TZOFFSETFROM:+0100
TZOFFSETTO:+0200
TZNAME:CEST
DTSTART:20240331T010000
END:DAYLIGHT
BEGIN:STANDARD
TZOFFSETFROM:+0200
TZOFFSETTO:+0100
TZNAME:CET
DTSTART:20241027T010000
END:STANDARD
BEGIN:DAYLIGHT
TZOFFSETFROM:+0100
TZOFFSETTO:+0200
TZNAME:CEST
DTSTART:20250330T010000
END:DAYLIGHT
BEGIN:STANDARD
TZOFFSETFROM:+0200
TZOFFSETTO:+0100
TZNAME:CET
DTSTART:20251026T010000
END:STANDARD
BEGIN:DAYLIGHT
TZOFFSETFROM:+0100
TZOFFSETTO:+0200
TZNAME:CEST
DTSTART:20260329T010000
END:DAYLIGHT
BEGIN:STANDARD
TZOFFSETFROM:+0200
TZOFFSETTO:+0100
TZNAME:CET
DTSTART:20261025T010000
END:STANDARD
END:VTIMEZONE
BEGIN:VEVENT
DTSTART;TZID=Europe/Paris:20250405T200000
DTEND;TZID=Europe/Paris:20250406T150000
DTSTAMP:20260422T084720
CREATED:20250205T192807Z
LAST-MODIFIED:20250306T102612Z
UID:3466-1743883200-1743951600@lepoche.be
SUMMARY:Les 5 et 6 avril - Harmonie Rouffiange : Hyper
DESCRIPTION:Après le succès de son premier spectacle « SurréArtiste »\, Harmonie Rouffiange revient avec son second projet « Hyper »\, dans lequel elle aborde toutes les facettes de sa personnalité hypersensible. \nToujours avec humour et émotions\, à travers des personnages hauts en couleur. \nSur scène\, un musicien entoure la comédienne afin de nous connecter à la thématique de l’hypersensibilité. \nSi vous avez envie de vous y retrouver ou de mieux vivre votre sensibilité ou celle de votre entourage\, ce spectacle est fait pour vous. \nEt pour ceux qui se reconnaissent moins dans cette thématique – les moins\, voire les hyposensibles -\, Harmonie aborde aussi des sujets comme l’enseignement ou l’état de notre monde actuel avec toujours ces mêmes sincérité et générosité qui la caractérisent sur scène. \nUn spectacle d’environ 1h00\, écrit et interprété par Harmonie Rouffiange sous le regard complice d’Amélie Segers. \nMusique et arrangements : Michel Lauricella. \nRégie : Benoît Neefs. \nPhotos : Igor Maréchal. \nTarifs: \nNormal : 25€ (Prévente : 22€) /  Groupe (min. 10 personnes) : 19€ / Moins de 12 ans : gratuit \nBilletterie en ligne : https://my.weezevent.com/hyper-a-charleroi
URL:https://lepoche.be/agenda/les-5-et-6-avril-harmonie-rouffiange-hyper/
LOCATION:Le Poche Théâtre\, Rue du Fort\, 70\, Charleroi\, Hainaut\, 6000\, Belgique
CATEGORIES:Théâtre
ATTACH;FMTTYPE=image/png:https://lepoche.be/wp-content/uploads/2025/02/HYPER_750.png
END:VEVENT
BEGIN:VEVENT
DTSTART;TZID=Europe/Paris:20250413T160000
DTEND;TZID=Europe/Paris:20250413T160000
DTSTAMP:20260422T084720
CREATED:20250405T110045Z
LAST-MODIFIED:20250405T110309Z
UID:3508-1744560000-1744560000@lepoche.be
SUMMARY:Dimanche 13 avril - Impro : Concept Famille pour les petits et grands enfants
DESCRIPTION:Chers enfants\, ados et grands enfants d’esprit\, \nPréparez-vous à plonger dans un univers où l’imaginaire fait équipe avec le quotidien\, où vos héros préférés prennent vie sous vos yeux ! \nAvec la participation de notre public chéri\, chaque improvisation sera unique ! \nVos idées seront le moteur de cette aventure hilarante. \nDonnez-nous vos thèmes les plus farfelus et regardez nos artistes jongler avec vos suggestions\, comme un chat sur un trampoline ! \nCe spectacle pourrait provoquer des éclats de rire incontrôlables\, des applaudissements frénétiques et même des moments de pure magie ! \nAlors\, enfilez votre cape\, préparez vos meilleures répliques et venez vivre une soirée d’impro où l’impossible devient possible ! \nQue vous soyez fan de dessins animés\, d’héroïsme ou simplement en quête d’une bonne dose de rigolade\, vous ne serez pas déçus ! \nNe manquez pas cette occasion de réinventer le monde avec nous ! On vous attend avec impatience\, prêts à déchaîner notre imagination… \nInfos & réservations : \n✉  contact@latroupecarbone.be \n☎  0494/399.449 \nBilletterie : https://latroupecarbone.be/reservations/ \nTarifs:\nNormal : 10€ / Seniors & étudiants : 8€ / Moins de 12 ans : gratuit / Article 27
URL:https://lepoche.be/agenda/dimanche-13-avril-impro-concept-famille-pour-les-petits-et-grands-enfants/
LOCATION:Le Poche Théâtre\, Rue du Fort\, 70\, Charleroi\, Hainaut\, 6000\, Belgique
CATEGORIES:Improvisation
ATTACH;FMTTYPE=image/png:https://lepoche.be/wp-content/uploads/2025/04/carbone_2_750.png
ORGANIZER;CN="La troupe Carbone":MAILTO:contact@latroupecarbone.be
END:VEVENT
BEGIN:VEVENT
DTSTART;TZID=Europe/Paris:20250417T200000
DTEND;TZID=Europe/Paris:20250420T150000
DTSTAMP:20260422T084720
CREATED:20240906T104840Z
LAST-MODIFIED:20240906T104840Z
UID:3149-1744920000-1745161200@lepoche.be
SUMMARY:Du 17 au 20 avril - Théâtre : Celestina
DESCRIPTION:Ce seule en scène est une adaptation originale du célèbre roman d’Octave Mirbeau\, Le journal d’une femme de chambre. \nMirbeau y critique et décrie\, de manière grinçante et sans complaisance\, la condition des domestiques\, l’hypocrisie de la bourgeoisie et les dérapages de la société de l’époque. \nPublié pour la première fois en 1900\, ce roman a scandalisé le public autant que la critique au moment de sa parution. Il est aujourd’hui considéré comme une œuvre audacieuse et visionnaire. \nConsignant son quotidien avec une franchise souvent brutale et une candeur troublante\, Celestina décrit sa réalité de femme tout au bas de l’échelle sociale et les minces perspectives d’avenir qui s’offrent à elle. ​ \nMise en scène : Annick Poulain \nDistribution : Natalia Molano \nInfos & réservations : \n✉  info@clairobscurtheatre.be \n☎  0494/40.34.34 \nTarifs : 17€/15€ (prévente) / Moins de 26 ans : 12€/10€ (prévente) \nhttps://www.clairobscurtheatre.be/billetterie
URL:https://lepoche.be/agenda/du-17-au-20-avril-theatre-celestina/
LOCATION:Le Poche Théâtre\, Rue du Fort\, 70\, Charleroi\, Hainaut\, 6000\, Belgique
CATEGORIES:Théâtre
ATTACH;FMTTYPE=image/jpeg:https://lepoche.be/wp-content/uploads/2024/09/Celestina_750.jpg
ORGANIZER;CN="La compagnie du ClairObscur":MAILTO:info@clairobscurtheatre.be
END:VEVENT
END:VCALENDAR