BEGIN:VCALENDAR
VERSION:2.0
PRODID:-// - ECPv6.15.20//NONSGML v1.0//EN
CALSCALE:GREGORIAN
METHOD:PUBLISH
X-ORIGINAL-URL:https://lepoche.be
X-WR-CALDESC:Évènements pour 
REFRESH-INTERVAL;VALUE=DURATION:PT1H
X-Robots-Tag:noindex
X-PUBLISHED-TTL:PT1H
BEGIN:VTIMEZONE
TZID:Europe/Paris
BEGIN:DAYLIGHT
TZOFFSETFROM:+0100
TZOFFSETTO:+0200
TZNAME:CEST
DTSTART:20240331T010000
END:DAYLIGHT
BEGIN:STANDARD
TZOFFSETFROM:+0200
TZOFFSETTO:+0100
TZNAME:CET
DTSTART:20241027T010000
END:STANDARD
BEGIN:DAYLIGHT
TZOFFSETFROM:+0100
TZOFFSETTO:+0200
TZNAME:CEST
DTSTART:20250330T010000
END:DAYLIGHT
BEGIN:STANDARD
TZOFFSETFROM:+0200
TZOFFSETTO:+0100
TZNAME:CET
DTSTART:20251026T010000
END:STANDARD
BEGIN:DAYLIGHT
TZOFFSETFROM:+0100
TZOFFSETTO:+0200
TZNAME:CEST
DTSTART:20260329T010000
END:DAYLIGHT
BEGIN:STANDARD
TZOFFSETFROM:+0200
TZOFFSETTO:+0100
TZNAME:CET
DTSTART:20261025T010000
END:STANDARD
END:VTIMEZONE
BEGIN:VEVENT
DTSTART;TZID=Europe/Paris:20250906T200000
DTEND;TZID=Europe/Paris:20250906T200000
DTSTAMP:20260422T002154
CREATED:20250822T100128Z
LAST-MODIFIED:20250822T100658Z
UID:3728-1757188800-1757188800@lepoche.be
SUMMARY:Samedi 6 septembre - Soirée d'ouverture de saison
DESCRIPTION:Un rendez-vous convivial et croustillant\, minutieusement concocté par la C Compagnie et surtout ouvert à toutes & tous\, que vous soyez spectateur·rice ou habitué·e à arpenter les planches ! \nBref\, une soirée prétexte qui sera l’occasion de se retrouver après deux mois de pause en partageant un verre dans la bonne humeur ! \nUne opportunité originale de lancer ensemble une saison pleine de promesses dans ce lieu dédié à la création artistique que nous aimons tant ! \nTarif : 5€ (1 boisson offerte) \nAchetez vos billets en ligne :\nVente de billets en ligne
URL:https://lepoche.be/agenda/samedi-6-septembre-soiree-douverture-de-saison/
LOCATION:Le Poche Théâtre\, Rue du Fort\, 70\, Charleroi\, Hainaut\, 6000\, Belgique
CATEGORIES:Cabaret,Magie,Théâtre
ATTACH;FMTTYPE=image/png:https://lepoche.be/wp-content/uploads/2025/08/saison_750.png
ORGANIZER;CN="Le Poche":MAILTO:info@lepoche.be
END:VEVENT
BEGIN:VEVENT
DTSTART;TZID=Europe/Paris:20250910T200000
DTEND;TZID=Europe/Paris:20250914T160000
DTSTAMP:20260422T002154
CREATED:20250819T204018Z
LAST-MODIFIED:20250903T115726Z
UID:3709-1757534400-1757865600@lepoche.be
SUMMARY:Les 10 et 14 septembre - Théâtre : L'amant secret de Barbara
DESCRIPTION:Hubert est né le 9 juin 1930\, à 15h50\, tout juste 1 minute après une certaine Monique Serf qui deviendra au fil des années Barbara\, l’Aphrodite déesse de la Chanson Française. \nPour Hubert\, il n’y a pas de hasard\, il n’y a que des rendez-vous. \nObstiné par la rencontre qu’il projette depuis qu’il connaît ce sentiment d’aimer\, il en deviendra son chaperon avant de devenir son amant secret. \nUn récit biographique poignant\, sur la vie tumultueuse de Barbara\, dépeint par Dany Marbaix\, porté délicatement par la voix envoutante d’Anne-Catherine Lecouvet\, et sublimé au piano par Xavier-Édouard Horemans. \nOn y retrouve des rires\, des larmes\, des sons et des leçons\, des inattendus mais surtout un moment suspendu… \nL’amant secret de Barbara\, de la compagnie Les Clandestins\, une création de Dany Marbaix. \nAvec Anne Catherine Lecouvet\, Xavier Edouard Horemans et Dany Marbaix. \nTarif : 18€ \nAchetez vos billets en ligne :\nVente de billets en ligne
URL:https://lepoche.be/agenda/les-10-et-14-septembre-theatre-lamant-secret-de-barbara/
LOCATION:Le Poche Théâtre\, Rue du Fort\, 70\, Charleroi\, Hainaut\, 6000\, Belgique
CATEGORIES:Théâtre
ATTACH;FMTTYPE=image/jpeg:https://lepoche.be/wp-content/uploads/2025/08/Barbara-CLANCHE_750.jpg
ORGANIZER;CN="La Clanche Th%C3%A9%C3%A2tre":MAILTO:laclanche.theatre@gmail.com
END:VEVENT
BEGIN:VEVENT
DTSTART;TZID=Europe/Paris:20250911T200000
DTEND;TZID=Europe/Paris:20250914T200000
DTSTAMP:20260422T002154
CREATED:20250809T201231Z
LAST-MODIFIED:20250905T165023Z
UID:3695-1757620800-1757880000@lepoche.be
SUMMARY:Du 11 au 14 septembre - Seul en scène : Denise Jardinière vous invite chez elle
DESCRIPTION:Le public est convié à une mystérieuse soirée chez Denise Jardinière mais ils ignorent tout de leur hôte. \nC’est une étrange gouvernante qui accueille les convives mais rien ne se passe comme prévu. \nAlors que l’arrivée de la maîtresse de maison est imminente\, voilà que le fils chéri de Madame est pris d’une sérieuse insomnie. \nElle lui raconte alors un conte énigmatique : « La légende de Paul\, le prince solitaire ». \nLes péripéties s’enchaînent alors jusqu’à la révélation finale où chacun comprendra enfin les raisons de cette si mystérieuse invitation… \nDe et avec Thibaut Boidin. \n \nTarif : 20€ \nAchetez vos billets en ligne :\nVente de billets en ligne
URL:https://lepoche.be/agenda/du-11-au-14-septembre-seul-en-scene-denise-jardiniere-vous-invite-chez-elle/
LOCATION:Le Poche Théâtre\, Rue du Fort\, 70\, Charleroi\, Hainaut\, 6000\, Belgique
CATEGORIES:Seul en scène
ATTACH;FMTTYPE=image/jpeg:https://lepoche.be/wp-content/uploads/2025/08/DENISE-CLANCHE_750_3.jpg
ORGANIZER;CN="La Clanche Th%C3%A9%C3%A2tre":MAILTO:laclanche.theatre@gmail.com
END:VEVENT
BEGIN:VEVENT
DTSTART;TZID=Europe/Paris:20250919T200000
DTEND;TZID=Europe/Paris:20250921T160000
DTSTAMP:20260422T002154
CREATED:20250822T135334Z
LAST-MODIFIED:20250822T135334Z
UID:3735-1758312000-1758470400@lepoche.be
SUMMARY:Du 19 au 21 septembre - Théâtre : Jodie
DESCRIPTION:« La moindre graine d’amour que tu peux déposer dans la vie d’un enfant contribue à le sauver un peu » \nEn Amérique\, dans les années 80\, Torey se lève chaque matin avec cette certitude et enseigne à des enfants dans une école de l’enseignement spécialisé. \nUn 8 janvier\, elle accueille Jodie\, une petite fille de 6 ans vivant dans de grandes souffrances. \nVoici le récit fabuleux de la rencontre de deux êtres dont l’existence sera à jamais bouleversée. \nDeux êtres qui\, le temps d’une petite année scolaire vont apprendre à s’apprivoiser et à s’aimer. \n« Jodie » d’après : « l’enfant qui ne pleurait pas » de Torey Hayden. \nInfos & réservations : \n✉  pantintheatre@gmail.com \n☎  0491/17.13.49 \nTarifs: \nNormal : 16€ / Seniors : 14€ / Etudiants : 12€
URL:https://lepoche.be/agenda/du-19-au-21-septembre-theatre-jodie/
LOCATION:Le Poche Théâtre\, Rue du Fort\, 70\, Charleroi\, Hainaut\, 6000\, Belgique
CATEGORIES:Théâtre
ATTACH;FMTTYPE=image/png:https://lepoche.be/wp-content/uploads/2025/08/Jodie_2_750.png
ORGANIZER;CN="Le Th%C3%A9%C3%A2tre Pantin":MAILTO:pantintheatre@gmail.com
END:VEVENT
BEGIN:VEVENT
DTSTART;TZID=Europe/Paris:20250922T200000
DTEND;TZID=Europe/Paris:20250922T200000
DTSTAMP:20260422T002154
CREATED:20250905T172325Z
LAST-MODIFIED:20260304T095639Z
UID:3789-1758571200-1758571200@lepoche.be
SUMMARY:Lundi 22 septembre - Les lundis du Poche 2.0 : Axel Hervelle
DESCRIPTION:Un invité emblématique\, des chroniqueurs\, une scène et un public… c’est la recette des « Lundis du Poche 2.0 »\, qui reviennent dans une version remplie d’humour et de dérision sous forme d’un talk-show basé sur une revue de l’actualité décomplexée\, le tout entièrement filmé à la façon d’une émission télévisée. \nTarif : 10€
URL:https://lepoche.be/agenda/lundi-22-septembre-les-lundis-du-poche-2-0-axel-hervelle/
LOCATION:Le Poche Théâtre\, Rue du Fort\, 70\, Charleroi\, Hainaut\, 6000\, Belgique
CATEGORIES:Talk-show
ATTACH;FMTTYPE=image/jpeg:https://lepoche.be/wp-content/uploads/2025/09/LDP_750_2.jpg
ORGANIZER;CN="Le Poche":MAILTO:info@lepoche.be
END:VEVENT
BEGIN:VEVENT
DTSTART;TZID=Europe/Paris:20250926T150000
DTEND;TZID=Europe/Paris:20250926T200000
DTSTAMP:20260422T002154
CREATED:20250903T201141Z
LAST-MODIFIED:20250905T165052Z
UID:3753-1758898800-1758916800@lepoche.be
SUMMARY:Vendredi 26 septembre - Conte : Les Gueules Noires
DESCRIPTION:Pourquoi parler de la mine et du charbon à Charleroi en 2025 ? C’est un devoir de mémoire nécessaire… \nCharleroi doit son surnom  »Pays Noir » à ses paysages monochromes\, façonnés par plus de deux siècles d’exploitation minière\, mais aussi verrière et métallurgique. \nCet héritage industriel\, économique et social a nourri notre culture et notre identité carolo en intégrant l’immigration d’abord flamande\, puis italienne\, suivie de nombreuses nationalités. \nLe spectacle  »Gueules Noires »\, à travers récits\, contes\, légendes et témoignages\, raconte l’univers de la mine au Pays Noir\, de ses travailleurs et travailleuses de l’ombre. Pour savoir\, comprendre et ne pas oublier… \nAvec : T. Marzola\, G. Dehout\, P. Baeyens\, J. Druaux \nEn 1ère partie « Semi d’Italia »\, un hommage à l’immigration italienne favorisée par l’accord charbon de 1946. Émotion\, humour et chansons italiennes sont au programme de ces récits de vie. \nAvec : T. Gentile\, L. Dolcimascolo\, S. Grandchamps \nAvec le soutien de l’Asbl Bois du Cazier\, le service 3e âge de la Ville de Charleroi\, Le Poche Théâtre de Charleroi et la Fédération Wallonie Bruxelles. \nInfos & réservations : \n✉  maisonducontecharleroi@gmail.com \n☎  0475/64.95.38 \nTarifs : 17€  /  Seniors + 65 ans : 13€ \nAchetez vos billets en ligne :\nVente de billets en ligne
URL:https://lepoche.be/agenda/vendredi-26-septembre-conte-les-gueules-noires/
LOCATION:Le Poche Théâtre\, Rue du Fort\, 70\, Charleroi\, Hainaut\, 6000\, Belgique
CATEGORIES:Conte
ATTACH;FMTTYPE=image/jpeg:https://lepoche.be/wp-content/uploads/2025/09/gueules_750.jpg
ORGANIZER;CN="La Maison du Conte de Charleroi":MAILTO:maisonducontecharleroi@gmail.com
END:VEVENT
BEGIN:VEVENT
DTSTART;TZID=Europe/Paris:20250930T200000
DTEND;TZID=Europe/Paris:20251005T150000
DTSTAMP:20260422T002154
CREATED:20250702T153808Z
LAST-MODIFIED:20250905T200246Z
UID:3590-1759262400-1759676400@lepoche.be
SUMMARY:Du 30 septembre au 5 octobre - Théâtre : Qui est Monsieur Schmitt ?
DESCRIPTION:Mr et Mme Bélier dînent dans leur salle à manger quand ils sont interrompus par la sonnerie du téléphone. \nOr\, ils n’ont pas d’abonnement téléphonique. \nLe mystérieux interlocuteur\, insistant\, demande à parler à un certain M. Schmitt… \nPlus étrange encore\, M. et Mme Bélier découvrent que l’intérieur de leur appartement a changé : les cadres accrochés aux murs ont été remplacés par d’autres\, les livres et les vêtements ne sont pas les leurs… \nSont-ils\, sans le savoir\, Mr et Mme Schmitt ? \nL’écriture de Sébastien Thiéry occupe un territoire original\, iconoclaste\, provocateur\, hors normes. \nIl nous livre avec Qui est Monsieur Schmitt ? une pièce drôle\, absurde\, troublante pendant laquelle on rit\, on s’inquiète\, on se remet en question. \nLa comédie de boulevard atteint ici la dimension d’un questionnement existentiel\, un ovni en forme de point d’interrogation avec cette éternelle question : Qui est fou finalement ? Qui est Monsieur Schmitt ? \nOu\, pour le dire autrement\, qui sommes-nous ? \nIl ne faut évidemment pas s’attendre à trouver ici une quelconque réponse… \nUne soirée cocasse\, désopilante et ébouriffante. \nUn véritable régal ! Kafka aurait adoré\, mais Feydeau aussi. \nInfos & réservations : \n☎  0497/44.32.96 \n✉  fabrice@wgprod.be \nPrévente : 15€  /  Sur place : 17€ \nLe spectacle fait également partie de l’abonnement du Poche 2025-2026.
URL:https://lepoche.be/agenda/du-30-septembre-au-5-octobre-theatre-qui-est-monsieur-schmitt/
LOCATION:Le Poche Théâtre\, Rue du Fort\, 70\, Charleroi\, Hainaut\, 6000\, Belgique
CATEGORIES:Théâtre
ATTACH;FMTTYPE=image/jpeg:https://lepoche.be/wp-content/uploads/2025/07/Schmitt_750.jpg
ORGANIZER;CN="%C3%80 la Wanna Gain Productions":MAILTO:fabrice@wgprod.be
END:VEVENT
END:VCALENDAR