BEGIN:VCALENDAR
VERSION:2.0
PRODID:-// - ECPv6.15.20//NONSGML v1.0//EN
CALSCALE:GREGORIAN
METHOD:PUBLISH
X-ORIGINAL-URL:https://lepoche.be
X-WR-CALDESC:Évènements pour 
REFRESH-INTERVAL;VALUE=DURATION:PT1H
X-Robots-Tag:noindex
X-PUBLISHED-TTL:PT1H
BEGIN:VTIMEZONE
TZID:Europe/Paris
BEGIN:DAYLIGHT
TZOFFSETFROM:+0100
TZOFFSETTO:+0200
TZNAME:CEST
DTSTART:20240331T010000
END:DAYLIGHT
BEGIN:STANDARD
TZOFFSETFROM:+0200
TZOFFSETTO:+0100
TZNAME:CET
DTSTART:20241027T010000
END:STANDARD
BEGIN:DAYLIGHT
TZOFFSETFROM:+0100
TZOFFSETTO:+0200
TZNAME:CEST
DTSTART:20250330T010000
END:DAYLIGHT
BEGIN:STANDARD
TZOFFSETFROM:+0200
TZOFFSETTO:+0100
TZNAME:CET
DTSTART:20251026T010000
END:STANDARD
BEGIN:DAYLIGHT
TZOFFSETFROM:+0100
TZOFFSETTO:+0200
TZNAME:CEST
DTSTART:20260329T010000
END:DAYLIGHT
BEGIN:STANDARD
TZOFFSETFROM:+0200
TZOFFSETTO:+0100
TZNAME:CET
DTSTART:20261025T010000
END:STANDARD
END:VTIMEZONE
BEGIN:VEVENT
DTSTART;TZID=Europe/Paris:20250930T200000
DTEND;TZID=Europe/Paris:20251005T150000
DTSTAMP:20260421T224550
CREATED:20250702T153808Z
LAST-MODIFIED:20250905T200246Z
UID:3590-1759262400-1759676400@lepoche.be
SUMMARY:Du 30 septembre au 5 octobre - Théâtre : Qui est Monsieur Schmitt ?
DESCRIPTION:Mr et Mme Bélier dînent dans leur salle à manger quand ils sont interrompus par la sonnerie du téléphone. \nOr\, ils n’ont pas d’abonnement téléphonique. \nLe mystérieux interlocuteur\, insistant\, demande à parler à un certain M. Schmitt… \nPlus étrange encore\, M. et Mme Bélier découvrent que l’intérieur de leur appartement a changé : les cadres accrochés aux murs ont été remplacés par d’autres\, les livres et les vêtements ne sont pas les leurs… \nSont-ils\, sans le savoir\, Mr et Mme Schmitt ? \nL’écriture de Sébastien Thiéry occupe un territoire original\, iconoclaste\, provocateur\, hors normes. \nIl nous livre avec Qui est Monsieur Schmitt ? une pièce drôle\, absurde\, troublante pendant laquelle on rit\, on s’inquiète\, on se remet en question. \nLa comédie de boulevard atteint ici la dimension d’un questionnement existentiel\, un ovni en forme de point d’interrogation avec cette éternelle question : Qui est fou finalement ? Qui est Monsieur Schmitt ? \nOu\, pour le dire autrement\, qui sommes-nous ? \nIl ne faut évidemment pas s’attendre à trouver ici une quelconque réponse… \nUne soirée cocasse\, désopilante et ébouriffante. \nUn véritable régal ! Kafka aurait adoré\, mais Feydeau aussi. \nInfos & réservations : \n☎  0497/44.32.96 \n✉  fabrice@wgprod.be \nPrévente : 15€  /  Sur place : 17€ \nLe spectacle fait également partie de l’abonnement du Poche 2025-2026.
URL:https://lepoche.be/agenda/du-30-septembre-au-5-octobre-theatre-qui-est-monsieur-schmitt/
LOCATION:Le Poche Théâtre\, Rue du Fort\, 70\, Charleroi\, Hainaut\, 6000\, Belgique
CATEGORIES:Théâtre
ATTACH;FMTTYPE=image/jpeg:https://lepoche.be/wp-content/uploads/2025/07/Schmitt_750.jpg
ORGANIZER;CN="%C3%80 la Wanna Gain Productions":MAILTO:fabrice@wgprod.be
END:VEVENT
BEGIN:VEVENT
DTSTART;TZID=Europe/Paris:20251009T200000
DTEND;TZID=Europe/Paris:20251012T160000
DTSTAMP:20260421T224550
CREATED:20250903T114906Z
LAST-MODIFIED:20251009T203458Z
UID:3743-1760040000-1760284800@lepoche.be
SUMMARY:Du 9 au 12 octobre - Daniel Rabier : Au dessous de la ceinture
DESCRIPTION:Rabier est avant tout un «amuseur» mais il est aussi auteur\, compositeur\, guitariste et chanteur. \nGaulois à l’humour décapant\, blagueur impénitent\, provocateur au grand cœur. \nC’est l’histoire d’un mec d’aujourd’hui\, pas né d’hier\, qui trace sa route sur les scènes des cabarets Parisiens (notamment «chez ma cousine»\, au «don Camilo»\, au «César Palace»\, à «La Nouvelle Eve» …) mais aussi sur les scènes de théâtres partout en France. \nRabier\, c’est un pur produit Français\, authentique et généreux\, véritable ovni de l’humour «Au dessous de la ceinture». \nIl vous projette dans son univers poetico-pipicacatésque pour un moment conviviale sans prise de tête. \nRabier est à consommer sans modération! \nBientôt remboursé par la sécu\, il n’a qu’une devise : SATISFAIT OU SATISFAIT ! \nDepuis le début de sa carrière des centaines de milliers de personnes ont partagé et apprécié avec lui ce moment d’échange. \nSi vous n’êtes pas encore de ceux-là\, parlez-en autour de vous\, il est certain que des gens de votre entourage l’aient\, eux\, déjà vu. \nNotre avis : La Belgique fait partie de ses antidotes pour ne pas devenir sénile\, même si avouons-le\, il est totalement fou ! Daniel Rabier est le mec le plus inconnu du show-business et pourtant\, tout le monde le connaît sur le web. Ce mec est considéré comme l’anthologie de l’humour\, partout en France. Chanceux que nous sommes de le recevoir. \nhttps://lepoche.be/wp-content/uploads/2025/09/Rabier-16_9.mp4\n \nTarif : 20€ \nReprésentation supplémentaire le dimanche 12 octobre à 16h ! \nAchetez vos billets en ligne :\nVente de billets en ligne
URL:https://lepoche.be/agenda/du-9-au-11-octobre-daniel-rabier-au-dessous-de-la-ceinture/
LOCATION:Le Poche Théâtre\, Rue du Fort\, 70\, Charleroi\, Hainaut\, 6000\, Belgique
CATEGORIES:Humour
ATTACH;FMTTYPE=image/jpeg:https://lepoche.be/wp-content/uploads/2025/09/rabier_750.jpg
ORGANIZER;CN="La Clanche Th%C3%A9%C3%A2tre":MAILTO:laclanche.theatre@gmail.com
END:VEVENT
BEGIN:VEVENT
DTSTART;TZID=Europe/Paris:20251013T193000
DTEND;TZID=Europe/Paris:20251013T193000
DTSTAMP:20260421T224550
CREATED:20250918T225838Z
LAST-MODIFIED:20250918T231151Z
UID:3852-1760383800-1760383800@lepoche.be
SUMMARY:Lundi 13 octobre - Marie-Hélène Etienne : Tout (Est) Programme !
DESCRIPTION:Tout (Est) Programme !!! \nOneWomenFlowConférence \nUne conférencière coach et thérapeute\, dans les domaines du mieux-vivre \net du développement personnel\, voudrait bien faire la balance à l’oreillette… finit par coacher l’ingé son en cabine. \n… Écorchant au passage les éducations\, la religion\, les croyances limitantes\, \nun chouia la politique et souvent le manque de confiance en soi des humains. \nLe tout sur fond de cinéphilie symbolique\, truffé de rires et d’émotions. \n🎭 Théâtre 🧠Thérapeutique 🧬 \nInfos & réservations : \n✉  marieheleneetienne65@gmail.com \n☎  0473/726.609 \nTarif: 25€
URL:https://lepoche.be/agenda/lundi-13-octobre-marie-helene-etienne-tout-est-programme/
LOCATION:Le Poche Théâtre\, Rue du Fort\, 70\, Charleroi\, Hainaut\, 6000\, Belgique
CATEGORIES:Conférence,Seul en scène
ATTACH;FMTTYPE=image/jpeg:https://lepoche.be/wp-content/uploads/2025/09/programme_750.jpg
ORGANIZER;CN="Marie-H%C3%A9l%C3%A8ne Etienne":MAILTO:marieheleneetienne65@gmail.com
END:VEVENT
BEGIN:VEVENT
DTSTART;TZID=Europe/Paris:20251020T200000
DTEND;TZID=Europe/Paris:20251020T200000
DTSTAMP:20260421T224550
CREATED:20250923T124808Z
LAST-MODIFIED:20260304T095712Z
UID:3871-1760990400-1760990400@lepoche.be
SUMMARY:Lundi 20 octobre - Les lundis du Poche 2.0 : Julie Patte
DESCRIPTION:Un invité emblématique\, des chroniqueurs\, une scène et un public… c’est la recette des « Lundis du Poche 2.0 »\, qui reviennent dans une version remplie d’humour et de dérision sous forme d’un talk-show basé sur une revue de l’actualité décomplexée\, le tout entièrement filmé à la façon d’une émission télévisée. \nTarif : 10€
URL:https://lepoche.be/agenda/lundi-20-octobre-les-lundis-du-poche-2-0-julie-patte/
LOCATION:Le Poche Théâtre\, Rue du Fort\, 70\, Charleroi\, Hainaut\, 6000\, Belgique
CATEGORIES:Talk-show
ATTACH;FMTTYPE=image/jpeg:https://lepoche.be/wp-content/uploads/2025/09/LDP-Julie-Patte_750.jpg
ORGANIZER;CN="Le Poche":MAILTO:info@lepoche.be
END:VEVENT
BEGIN:VEVENT
DTSTART;TZID=Europe/Paris:20251023T200000
DTEND;TZID=Europe/Paris:20251023T200000
DTSTAMP:20260421T224550
CREATED:20250927T111526Z
LAST-MODIFIED:20250927T111526Z
UID:3882-1761249600-1761249600@lepoche.be
SUMMARY:Jeudi 23 octobre - Impro : La Bataille des Planètes - PLUTON vs MARS
DESCRIPTION:LA BATAILLE DES PLANÈTES ! \n2ème round : PLUTON vs MARS ! \n4 planètes. 28 jouteurs. Une seule coupe légendaire à décrocher : la Coupe Désastre ! \nLe nouveau championnat Improcarolo débarque sur Terre pour une saison galactique pleine de rebondissements\, de fous rires… et de chaos intersidéral. \nQui dominera l’univers de l’impro ? À toi de venir juger. Le pouvoir du public sera… décisif. \nAchetez vos billets en ligne :\nVente de billets en ligne
URL:https://lepoche.be/agenda/jeudi-23-octobre-impro-la-bataille-des-planetes-pluton-vs-mars/
LOCATION:Le Poche Théâtre\, Rue du Fort\, 70\, Charleroi\, Hainaut\, 6000\, Belgique
CATEGORIES:Improvisation
ATTACH;FMTTYPE=image/jpeg:https://lepoche.be/wp-content/uploads/2025/09/bataille_750.jpg
ORGANIZER;CN="Improcarolo":MAILTO:contact@improcarolo.be
END:VEVENT
BEGIN:VEVENT
DTSTART;TZID=Europe/Paris:20251025T170000
DTEND;TZID=Europe/Paris:20251026T160000
DTSTAMP:20260421T224550
CREATED:20250905T190027Z
LAST-MODIFIED:20251024T113509Z
UID:3807-1761411600-1761494400@lepoche.be
SUMMARY:Les 25 et 26 octobre - Théâtre et danse : L'étoile des vœux
DESCRIPTION:Et si nous t’invitions à toucher le cœur d’un enfant\, à travers ses émotions et à danser autour de la terre… et si\, grâce à l’espoir et l’amour véritable\, tout était possible… \nViens et entre dans un univers magique et rempli de surprises… tu y feras de magnifiques rencontres.
URL:https://lepoche.be/agenda/les-25-et-26-octobre-theatre-et-danse-letoile-des-voeux/
LOCATION:Le Poche Théâtre\, Rue du Fort\, 70\, Charleroi\, Hainaut\, 6000\, Belgique
CATEGORIES:Danse,Théâtre
ATTACH;FMTTYPE=image/png:https://lepoche.be/wp-content/uploads/2025/09/etoile_sold_750.png
ORGANIZER;CN="R%C3%AAves en sc%C3%A8ne":MAILTO:divinedanceschool@hotmail.com
END:VEVENT
BEGIN:VEVENT
DTSTART;TZID=Europe/Paris:20251031T140000
DTEND;TZID=Europe/Paris:20251031T150000
DTSTAMP:20260421T224550
CREATED:20251015T184300Z
LAST-MODIFIED:20251015T185103Z
UID:3916-1761919200-1761922800@lepoche.be
SUMMARY:Vendredi 31 octobre - Conte : Halloween au Poche Théâtre
DESCRIPTION:Parcours conté frissonnant… \nOserez-vous entrer dans le théâtre hanté ? Venez déguisé pour écouter nos histoires terrifiantes… \nRécompense à la fin du parcours ! \nPublic : 7 à 77 ans. \nAttention\, places limitées ! \nInfos & réservations : \n\n✉  maisonducontecharleroi@gmail.com \n☎  0475/64.95.38 \nTarifs : 10€  /  Enfants : 8€ \nAchetez vos billets en ligne :\nVente de billets en ligne
URL:https://lepoche.be/agenda/vendredi-31-octobre-conte-halloween-au-poche-theatre/
LOCATION:Le Poche Théâtre\, Rue du Fort\, 70\, Charleroi\, Hainaut\, 6000\, Belgique
CATEGORIES:Conte
ATTACH;FMTTYPE=image/jpeg:https://lepoche.be/wp-content/uploads/2025/10/hante_750.jpg
ORGANIZER;CN="La Maison du Conte de Charleroi":MAILTO:maisonducontecharleroi@gmail.com
END:VEVENT
END:VCALENDAR