BEGIN:VCALENDAR
VERSION:2.0
PRODID:-// - ECPv6.15.20//NONSGML v1.0//EN
CALSCALE:GREGORIAN
METHOD:PUBLISH
X-ORIGINAL-URL:https://lepoche.be
X-WR-CALDESC:Évènements pour 
REFRESH-INTERVAL;VALUE=DURATION:PT1H
X-Robots-Tag:noindex
X-PUBLISHED-TTL:PT1H
BEGIN:VTIMEZONE
TZID:Europe/Paris
BEGIN:DAYLIGHT
TZOFFSETFROM:+0100
TZOFFSETTO:+0200
TZNAME:CEST
DTSTART:20250330T010000
END:DAYLIGHT
BEGIN:STANDARD
TZOFFSETFROM:+0200
TZOFFSETTO:+0100
TZNAME:CET
DTSTART:20251026T010000
END:STANDARD
BEGIN:DAYLIGHT
TZOFFSETFROM:+0100
TZOFFSETTO:+0200
TZNAME:CEST
DTSTART:20260329T010000
END:DAYLIGHT
BEGIN:STANDARD
TZOFFSETFROM:+0200
TZOFFSETTO:+0100
TZNAME:CET
DTSTART:20261025T010000
END:STANDARD
BEGIN:DAYLIGHT
TZOFFSETFROM:+0100
TZOFFSETTO:+0200
TZNAME:CEST
DTSTART:20270328T010000
END:DAYLIGHT
BEGIN:STANDARD
TZOFFSETFROM:+0200
TZOFFSETTO:+0100
TZNAME:CET
DTSTART:20271031T010000
END:STANDARD
END:VTIMEZONE
BEGIN:VEVENT
DTSTART;TZID=Europe/Paris:20260110T150000
DTEND;TZID=Europe/Paris:20260110T150000
DTSTAMP:20260421T172515
CREATED:20250905T104100Z
LAST-MODIFIED:20250905T104827Z
UID:3761-1768057200-1768057200@lepoche.be
SUMMARY:Samedi 10 janvier - Concert : Hommage à Claude Barzotti par Morgane
DESCRIPTION:Durant ce concert hommage\, Morgane chantera des titres que Claude Barzotti lui a écrits\, mais elle interprètera aussi des titres du répertoire de Claude\, le tout accompagné de deux musiciens\, André Meuwis au clavier et Christophe Pons à la guitare. \nInfos & réservations : \n✉  sergestandard@hotmail.com \n☎  0496/15.01.35 \nTarif : 25€
URL:https://lepoche.be/agenda/samedi-10-janvier-concert-hommage-a-claude-barzotti-par-morgane/
LOCATION:Le Poche Théâtre\, Rue du Fort\, 70\, Charleroi\, Hainaut\, 6000\, Belgique
CATEGORIES:Concert
ATTACH;FMTTYPE=image/png:https://lepoche.be/wp-content/uploads/2025/09/morgane_750.png
ORGANIZER;CN="Serge Lequeue":MAILTO:sergestandard@hotmail.com
END:VEVENT
BEGIN:VEVENT
DTSTART;TZID=Europe/Paris:20260116T200000
DTEND;TZID=Europe/Paris:20260118T150000
DTSTAMP:20260421T172515
CREATED:20250702T192351Z
LAST-MODIFIED:20251017T171259Z
UID:3636-1768593600-1768748400@lepoche.be
SUMMARY:Du 16 au 18 janvier - Théâtre : J'habite chez ma cousine
DESCRIPTION:On choisit ses amis\, pas sa famille ! \nPour preuve : Janine et Ghislaine sont cousines et… sont surtout très\, très différentes. \nGhislaine est parisienne\, comédienne et bobo. \nJanine est … maladroite\, encombrante et joyeusement agaçante. \nUne sorte d’emmerdeuse au féminin (avec l’accent du sud) qui va s’imposer chez sa cousine coincée. \nSituations cocasses et malentendus fusent pour laisser place aux fous et rire\, et aussi à la tendresse\, car ne vous fiez pas trop aux apparences… les situations peuvent vite se retourner. \nUne comédie de Mohamed Bounouara (Les glandeurs nature) qui ne laissera pas vos zygomatiques indifférents ! \nDistribution : Lola Destercq et Audrey Devos. \nMise en scène : Annick Poulain. \nRégie : Jérôme Denis. \nInfos & réservations : \n☎  0479/92.96.19 \n✉  impact.cie@outlook.be \nPrévente : 15€  /  Sur place : 18€ \nLe spectacle fait également partie de l’abonnement du Poche 2025-2026.
URL:https://lepoche.be/agenda/du-16-au-18-janvier-theatre-jhabite-chez-ma-cousine/
LOCATION:Le Poche Théâtre\, Rue du Fort\, 70\, Charleroi\, Hainaut\, 6000\, Belgique
CATEGORIES:Théâtre
ATTACH;FMTTYPE=image/jpeg:https://lepoche.be/wp-content/uploads/2025/07/cousine-3_750.jpg
ORGANIZER;CN="Imp-Act":MAILTO:impact.cie@outlook.be
END:VEVENT
BEGIN:VEVENT
DTSTART;TZID=Europe/Paris:20260117T160000
DTEND;TZID=Europe/Paris:20260117T160000
DTSTAMP:20260421T172515
CREATED:20260115T093546Z
LAST-MODIFIED:20260115T094915Z
UID:4143-1768665600-1768665600@lepoche.be
SUMMARY:Samedi 17 janvier - Contes en Poche : Les goûters contés
DESCRIPTION:« Osso l’ours » \nAu loin il y a la montagne\, les ours\, les marmottes… \nEt au village\, les petits d’hommes. \nChacun naît un jour et grandit au milieu de ses frères. \nChacun dans sa tribu\, et pourtant tous reliés. \nUne histoire d’ours\, une histoire de petit d’homme\, une histoire de liens. \nAvec : Raphaelle Bouillon\, accompagnée de Kevin Nollomont au tambour et au chant. \nPublic : enfants à partir de 6 ans. \nInfos & réservations : \n✉  maisonducontecharleroi@gmail.com \n☎  0475/64.95.38 \nTarifs : 10€  /  Enfants : 8€   (collation incluse) \nAchetez vos billets en ligne :\nVente de billets en ligne
URL:https://lepoche.be/agenda/samedi-17-janvier-contes-en-poche-les-gouters-contes/
LOCATION:Le Poche Théâtre\, Rue du Fort\, 70\, Charleroi\, Hainaut\, 6000\, Belgique
CATEGORIES:Conte
ATTACH;FMTTYPE=image/jpeg:https://lepoche.be/wp-content/uploads/2026/01/gouter-17-01_750.jpg
ORGANIZER;CN="La Maison du Conte de Charleroi":MAILTO:maisonducontecharleroi@gmail.com
END:VEVENT
BEGIN:VEVENT
DTSTART;TZID=Europe/Paris:20260118T103000
DTEND;TZID=Europe/Paris:20260118T103000
DTSTAMP:20260421T172515
CREATED:20260115T102020Z
LAST-MODIFIED:20260115T102020Z
UID:4152-1768732200-1768732200@lepoche.be
SUMMARY:Dimanche 18 janvier - Contes en poche : Les doux dimanches contés
DESCRIPTION:Pascale Baeyens (Pascalou) et son spectacle : « Le tour du monde des rondes » \nPetit Poucet veut découvrir le mondes\, il s’ennuie chez lui… \nComptines enfantines autour du monde\, percussions et\, bien sûr\, l’accordéon de Pascalou ! \nPublic : enfants 1-5 ans \nInfos & réservations : \n✉  maisonducontecharleroi@gmail.com \n☎  0475/64.95.38 \nTarifs : 10€  /  Enfants : 8€ \nAchetez vos billets en ligne :\nVente de billets en ligne
URL:https://lepoche.be/agenda/dimanche-18-janvier-contes-en-poche-les-doux-dimanches-contes/
LOCATION:Le Poche Théâtre\, Rue du Fort\, 70\, Charleroi\, Hainaut\, 6000\, Belgique
CATEGORIES:Conte
ATTACH;FMTTYPE=image/jpeg:https://lepoche.be/wp-content/uploads/2026/01/dimanche-18-01_750.jpg
ORGANIZER;CN="La Maison du Conte de Charleroi":MAILTO:maisonducontecharleroi@gmail.com
END:VEVENT
BEGIN:VEVENT
DTSTART;TZID=Europe/Paris:20260119T200000
DTEND;TZID=Europe/Paris:20260119T200000
DTSTAMP:20260421T172515
CREATED:20251218T211642Z
LAST-MODIFIED:20260304T095851Z
UID:4069-1768852800-1768852800@lepoche.be
SUMMARY:Lundi 19 janvier - Les lundis du Poche 2.0 : Eric Boschman
DESCRIPTION:Un invité emblématique\, des chroniqueurs\, une scène et un public… c’est la recette des « Lundis du Poche 2.0 »\, qui reviennent dans une version remplie d’humour et de dérision sous forme d’un talk-show basé sur une revue de l’actualité décomplexée\, le tout entièrement filmé à la façon d’une émission télévisée. \nTarif : 10€
URL:https://lepoche.be/agenda/lundi-19-janvier-les-lundis-du-poche-2-0-eric-boschman/
LOCATION:Le Poche Théâtre\, Rue du Fort\, 70\, Charleroi\, Hainaut\, 6000\, Belgique
CATEGORIES:Talk-show
ATTACH;FMTTYPE=image/png:https://lepoche.be/wp-content/uploads/2025/12/LDP-Eric-Boschman_750.png
ORGANIZER;CN="Le Poche":MAILTO:info@lepoche.be
END:VEVENT
BEGIN:VEVENT
DTSTART;TZID=Europe/Paris:20260123T200000
DTEND;TZID=Europe/Paris:20260124T200000
DTSTAMP:20260421T172515
CREATED:20260107T220654Z
LAST-MODIFIED:20260114T201000Z
UID:4112-1769198400-1769284800@lepoche.be
SUMMARY:Les 23 et 24 janvier - Seul en scène : Christophe a quelque chose à vous dire !
DESCRIPTION:Dans ma famille\, de vielles croyances et superstitions persistent depuis longtemps. \nUne en particulier m’ a attiré tant pour sa bêtise que pour le sérieux avec lequel ma mère l’affirmait: le 9ème nuage. \nMa mission était claire\, trouver pire que la croyance de ma mère. \nJ’ai fouillé superstitions\, croyances populaires et théories du complot pour vous présenter ce spectacle d’humour haut en couleur dans lequel j’ai des choses à régler. \nEt si vous ne connaissez pas l’histoire du 9ème nuage\, venez ! Vous ne serez pas déçu. \n \nBuzz Radio · Interview : Christophe Maison & Yann Lejeune (13/01/26)\n \nInfos & réservations : \n☎  0471/41.82.26 \nTarifs:\nNormal : 10€  /  Mineurs & retraités : 8€
URL:https://lepoche.be/agenda/les-23-et-24-janvier-seul-en-scene-christophe-a-quelque-chose-a-vous-dire/
LOCATION:Le Poche Théâtre\, Rue du Fort\, 70\, Charleroi\, Hainaut\, 6000\, Belgique
CATEGORIES:Seul en scène
ATTACH;FMTTYPE=image/png:https://lepoche.be/wp-content/uploads/2026/01/christophe_750.png
END:VEVENT
BEGIN:VEVENT
DTSTART;TZID=Europe/Paris:20260124T160000
DTEND;TZID=Europe/Paris:20260125T160000
DTSTAMP:20260421T172515
CREATED:20260107T222138Z
LAST-MODIFIED:20260114T200908Z
UID:4120-1769270400-1769356800@lepoche.be
SUMMARY:Les 24 et 25 janvier - Magie pour enfants : J'ai un truc à te dire !
DESCRIPTION:J’ai un truc à te dire… \nC’est un spectacle de magie pour enfants signé Yann Lejeune\, où les enfants ne regardent pas la magie… ils la font. \nUn spectacle drôle\, participatif et bienveillant\, où les émotions deviennent des tours \net le public\, le plus beau des partenaires. \nAttention… la magie pourrait bien venir de vous. ✨ \n \nBuzz Radio · Interview : Christophe Maison & Yann Lejeune (13/01/26)\n \nInfos & réservations : \n☎  0498/26.96.05 \nTarifs: 8€
URL:https://lepoche.be/agenda/les-24-et-25-janvier-magie-pour-enfants-jai-un-truc-a-te-dire/
LOCATION:Le Poche Théâtre\, Rue du Fort\, 70\, Charleroi\, Hainaut\, 6000\, Belgique
CATEGORIES:Enfants,Humour,Magie
ATTACH;FMTTYPE=image/png:https://lepoche.be/wp-content/uploads/2026/01/yann_750.png
END:VEVENT
BEGIN:VEVENT
DTSTART;TZID=Europe/Paris:20260129T200000
DTEND;TZID=Europe/Paris:20260130T200000
DTSTAMP:20260421T172515
CREATED:20260107T203622Z
LAST-MODIFIED:20260107T203622Z
UID:4094-1769716800-1769803200@lepoche.be
SUMMARY:Les 29 et 30 janvier : Théâtre : Le Stamcafé
DESCRIPTION:LE STAMCAFE est le spectacle qui est passé le plus souvent au Clandestin de Nivelles\, et à chaque fois…on rit ! mais de + en + fort ! \nMonique est la tenancière d’un stamineï à Koekelberg\, le Stamcafé ! \nElle peut compter sur Gaspard\, celui qui l’embrasse par où elle mange pour lui donner un coup de main quand il ne travaille pas à la commune. \nCa tombe bien\, Monique a justement besoin de lui pour la remplacer au comptoir pendant 3 jours parce qu’elle va rendre visite à ses parents à La Panne. \nDurant l’absence de Monique\, le Gaze va devoir servir de drôles de clients ! \nGaspard va-t-il profiter de ces 3 jours pour faire la « jave » en stoemelings ? \nDépêche-toi de réserver ta place sinon le bistrot risque d’être vite boum vol ! \nEt tu sais pas quoi ? Tu peux aussi boire un godet avant et après ! C’est pas beau çà ? \nC’est une aubaine d’avoir le STAMCAFE à Charleroi\, après sa tournée à Bruxelles\, Nivelles\, Liège…ENFIN\, à Charleroi ! là où tout prend son sens ! \nAvec Maxime Thierry\, Françoise de Paeuw & Gil \nTarif : 18€ \nAchetez vos billets en ligne :\nVente de billets en ligne
URL:https://lepoche.be/agenda/les-29-et-30-janvier-theatre-le-stamcafe/
LOCATION:Le Poche Théâtre\, Rue du Fort\, 70\, Charleroi\, Hainaut\, 6000\, Belgique
CATEGORIES:Cabaret,Théâtre
ATTACH;FMTTYPE=image/jpeg:https://lepoche.be/wp-content/uploads/2026/01/STAMClanche_750.jpg
ORGANIZER;CN="La Clanche Th%C3%A9%C3%A2tre":MAILTO:laclanche.theatre@gmail.com
END:VEVENT
BEGIN:VEVENT
DTSTART;TZID=Europe/Paris:20260131T150000
DTEND;TZID=Europe/Paris:20260131T150000
DTSTAMP:20260421T172515
CREATED:20260107T205203Z
LAST-MODIFIED:20260107T205203Z
UID:4100-1769871600-1769871600@lepoche.be
SUMMARY:Samedi 31 janvier - Enfants : Destination sommeil
DESCRIPTION:Que vous soyez enfant ou adulte\, revivez la magie de Disney avec ce spectacle interactif\, qui vous invite à revivre la magie des rêves d’enfance. \nLaissez-vous emporter par la nostalgie et la féérie des chansons qui ont enchanté des générations à travers un merveilleux conte. \nIXHOR vous offre une après-midi inoubliable avec une célébration musicale qui promet de bien beaux souvenirs. \nSpectacle pour les enfants (parents admis) et pour les parents (enfants admis) ! \nChant : Sandra Vonckx\, Piano : Xavier-Edouard Horemans\, Saxophone : Alain Cupper. \nUne mise en scène de Dany Marbaix. \nTarif : (+12 ans) 16€ / (-12 ans) 12€ \nAchetez vos billets en ligne :\nVente de billets en ligne
URL:https://lepoche.be/agenda/samedi-31-janvier-enfants-destination-sommeil/
LOCATION:Le Poche Théâtre\, Rue du Fort\, 70\, Charleroi\, Hainaut\, 6000\, Belgique
CATEGORIES:Enfants
ATTACH;FMTTYPE=image/jpeg:https://lepoche.be/wp-content/uploads/2026/01/DISNEYClanche_750.jpg
ORGANIZER;CN="La Clanche Th%C3%A9%C3%A2tre":MAILTO:laclanche.theatre@gmail.com
END:VEVENT
END:VCALENDAR