BEGIN:VCALENDAR
VERSION:2.0
PRODID:-// - ECPv6.15.20//NONSGML v1.0//EN
CALSCALE:GREGORIAN
METHOD:PUBLISH
X-ORIGINAL-URL:https://lepoche.be
X-WR-CALDESC:Évènements pour 
REFRESH-INTERVAL;VALUE=DURATION:PT1H
X-Robots-Tag:noindex
X-PUBLISHED-TTL:PT1H
BEGIN:VTIMEZONE
TZID:Europe/Paris
BEGIN:DAYLIGHT
TZOFFSETFROM:+0100
TZOFFSETTO:+0200
TZNAME:CEST
DTSTART:20250330T010000
END:DAYLIGHT
BEGIN:STANDARD
TZOFFSETFROM:+0200
TZOFFSETTO:+0100
TZNAME:CET
DTSTART:20251026T010000
END:STANDARD
BEGIN:DAYLIGHT
TZOFFSETFROM:+0100
TZOFFSETTO:+0200
TZNAME:CEST
DTSTART:20260329T010000
END:DAYLIGHT
BEGIN:STANDARD
TZOFFSETFROM:+0200
TZOFFSETTO:+0100
TZNAME:CET
DTSTART:20261025T010000
END:STANDARD
BEGIN:DAYLIGHT
TZOFFSETFROM:+0100
TZOFFSETTO:+0200
TZNAME:CEST
DTSTART:20270328T010000
END:DAYLIGHT
BEGIN:STANDARD
TZOFFSETFROM:+0200
TZOFFSETTO:+0100
TZNAME:CET
DTSTART:20271031T010000
END:STANDARD
END:VTIMEZONE
BEGIN:VEVENT
DTSTART;TZID=Europe/Paris:20260201T150000
DTEND;TZID=Europe/Paris:20260201T150000
DTSTAMP:20260421T154237
CREATED:20260107T210111Z
LAST-MODIFIED:20260205T115002Z
UID:4106-1769958000-1769958000@lepoche.be
SUMMARY:Dimanche 1er février - Humour : Senior Lamy
DESCRIPTION:André Lamy\, artiste-imitateur depuis 45 ans que vous entendez tous les matins sur les antennes de Bel RTL depuis 19 ans avec « Votez pour moi ». \n« Senior Lamy »\, c’est le 26 ème spectacle de sa carrière et il\nparle du passage à la soixantaine. \nDes imitations\, du rire\, de l’actualité\, du rire\, des chansons\, du rire…mais pas que… \nUn spectacle qui ne se prend pas la tête et fait la part belle au rire sous toutes ses formes… \nÀ consommer tout show !! \nTarif : 20€ \nAchetez vos billets en ligne :\nVente de billets en ligne
URL:https://lepoche.be/agenda/dimanche-1er-fevrier-humour-senior-lamy/
LOCATION:Le Poche Théâtre\, Rue du Fort\, 70\, Charleroi\, Hainaut\, 6000\, Belgique
CATEGORIES:Humour
ATTACH;FMTTYPE=image/jpeg:https://lepoche.be/wp-content/uploads/2026/01/LAMYClanche_750.jpg
ORGANIZER;CN="La Clanche Th%C3%A9%C3%A2tre":MAILTO:laclanche.theatre@gmail.com
END:VEVENT
BEGIN:VEVENT
DTSTART;TZID=Europe/Paris:20260204T200000
DTEND;TZID=Europe/Paris:20260208T150000
DTSTAMP:20260421T154237
CREATED:20250906T124704Z
LAST-MODIFIED:20260205T112226Z
UID:3837-1770235200-1770562800@lepoche.be
SUMMARY:Du 4 au 8 février - Théâtre : L'Origine du Monde
DESCRIPTION:Un homme dont le cœur s’arrête brutalement est toujours vivant. \nPour retrouver les battements de son cœur\, il va devoir retourner aux sources de la vie\, au propre et au figuré : sur les conseils d’un marabout\, sa mission sera de prendre en photo le sexe de sa mère… qui ne se laissera pas faire. \nPartant de ce postulat\, Sébastien Thiéry enchaîne les situations cocasses et hilarantes\, tout en flirtant avec le scabreux ( ne touche-t-on pas ici au “sacré” des valeurs chrétiennes ? ). \nCette pièce est profondément drôle parce que profondément tragique : derrière le feu de cocasseries résonne la douleur d’un fils que sa mère n’a pas aimé. \nSébastien Thiéry y aborde les thèmes de la mort\, des rapports familiaux\, de la nudité\, de la psychanalyse… oui\, il s’agit bien d’une comédie existentielle. \nEn prenant pour titre le célèbre tableau de Courbet\, sa pièce en revêt aussi la provocation et l’humanité… mais au-delà de cette évocation\, se trouve une pièce à multiples facettes et références : on y navigue entre Ionesco et Feydeau pour atteindre un fantastique inattendu. \nInfos & réservations : \n☎  0497/44.32.96 \n✉  fabrice@wgprod.be \nPrévente : 15€  /  Sur place : 17€
URL:https://lepoche.be/agenda/du-3-au-8-fevrier-theatre-lorigine-du-monde/
LOCATION:Le Poche Théâtre\, Rue du Fort\, 70\, Charleroi\, Hainaut\, 6000\, Belgique
CATEGORIES:Théâtre
ATTACH;FMTTYPE=image/jpeg:https://lepoche.be/wp-content/uploads/2025/09/Origine2_750.jpg
ORGANIZER;CN="%C3%80 la Wanna Gain Productions":MAILTO:fabrice@wgprod.be
END:VEVENT
BEGIN:VEVENT
DTSTART;TZID=Europe/Paris:20260208T103000
DTEND;TZID=Europe/Paris:20260208T103000
DTSTAMP:20260421T154237
CREATED:20260124T131219Z
LAST-MODIFIED:20260124T131530Z
UID:4194-1770546600-1770546600@lepoche.be
SUMMARY:Dimanche 8 février - Contes en poche : Les doux dimanches contés
DESCRIPTION:« Il neige » ☃ \nC’est l’hiver\, il neige. Les arbres frissonnent\, les étoiles étincellent dans le ciel. \nLes esquimaux sont bien au chaud dans leur igloo\, Ours rejoint sa tanière dans la taïga\, Petit Poucet dort dans sa maison\, Renard cherche à rejoindre son terrier. \nTout semble si calme et silencieux dans la neige. Soudain un cri retentit\, c’est Chouette qui attend ses histoires… \nDe et avec : Marie Lambret\, artiste conteuse. \nPublic : enfants 1-5 ans \nInfos & réservations : \n✉  maisonducontecharleroi@gmail.com \n☎  0475/64.95.38 \nTarifs : 10€  /  Enfants : 8€ \nAchetez vos billets en ligne :\nVente de billets en ligne
URL:https://lepoche.be/agenda/dimanche-8-fevrier-contes-en-poche-les-doux-dimanches-contes/
LOCATION:Le Poche Théâtre\, Rue du Fort\, 70\, Charleroi\, Hainaut\, 6000\, Belgique
CATEGORIES:Conte
ATTACH;FMTTYPE=image/jpeg:https://lepoche.be/wp-content/uploads/2026/01/dimanche-08-02_750.jpg
ORGANIZER;CN="La Maison du Conte de Charleroi":MAILTO:maisonducontecharleroi@gmail.com
END:VEVENT
BEGIN:VEVENT
DTSTART;TZID=Europe/Paris:20260214T200000
DTEND;TZID=Europe/Paris:20260214T200000
DTSTAMP:20260421T154237
CREATED:20260116T105904Z
LAST-MODIFIED:20260122T171637Z
UID:4164-1771099200-1771099200@lepoche.be
SUMMARY:Samedi 14 février - Contes sensuels et coquins
DESCRIPTION:Chaque année\, comme le printemps\, les contes coquins reviennent. \nCette édition verra des artistes confirmés\, prenant sous leur aile ceux et celles pour qui ce sera le 1ère fois dans cette pratique. \nOn va découvrir et dévoiler des choses… \nDes contes tendres\, sensuels\, délurés un petit peu grivois (quoique…)\, quelques poèmes délicieusement érotiques\, voire franchement\, euh\, comment dire\, enfin\, vous avez compris…. \nSaint Valentin (dont une relique existe à Montignies S/ Sambre\, si\, si) sera le sein\, euh\, le saint patron\, en l’honneur de qui nous raconterons nos histoires coquines. \nUn verre de bulles offert à tout participant. \nPublic : à partir de 16 ans. \nInfos & réservations : \n✉  maisonducontecharleroi@gmail.com \n☎  0475/64.95.38 \nTarifs : 18\,50€ \nAchetez vos billets en ligne :\nVente de billets en ligne
URL:https://lepoche.be/agenda/samedi-14-fevrier-contes-sensuels-et-coquins/
LOCATION:Le Poche Théâtre\, Rue du Fort\, 70\, Charleroi\, Hainaut\, 6000\, Belgique
CATEGORIES:Conte
ATTACH;FMTTYPE=image/jpeg:https://lepoche.be/wp-content/uploads/2026/01/coquins_2_750.jpg
ORGANIZER;CN="La Maison du Conte de Charleroi":MAILTO:maisonducontecharleroi@gmail.com
END:VEVENT
BEGIN:VEVENT
DTSTART;TZID=Europe/Paris:20260215T150000
DTEND;TZID=Europe/Paris:20260215T150000
DTSTAMP:20260421T154237
CREATED:20260123T101516Z
LAST-MODIFIED:20260123T101516Z
UID:4188-1771167600-1771167600@lepoche.be
SUMMARY:Dimanche 15 février - Impro : 4EVER
DESCRIPTION:Spectacle d’improvisation longue forme. \nTrois couples. Trois histoires qui s’entremêlent… \nUne fois n’est pas coutume\, on retrouvera ces 4 femmes de façon un peu différente à l’occasion de la fête des amoureux puisqu’elles seront en couple ! Vous déciderez de leur destin ! \nIci\, le temps n’a pas d’emprise. Seuls comptent les liens qui unissent et les secrets qui séparent. \nChaque année\, ces couples se retrouvent pour passer un moment entre eux le temps d’un week-end. Chacun.e est unique mais sont complémentaires. Leurs vies les ont parfois éloignées\, mais ce week-end est leur refuge\, leur moment sacré. \nUn lien mystérieux et indéfectible les unit. C’est le public qui détient ce secret. \nIl confiera ce fragment d’histoire à un.e des comédien.nes après avoir rencontré les six personnages qu’il aura façonné. \nRévélation après révélation\, leur véritable passé va se dévoiler. En les accompagnant durant quatre week-ends\, vous apprendrez à les connaître\, à les détester ou à les adorer. \nVenez découvrir un spectacle d’improvisation\, où les couples se dévoileront et où les confidences entre ces amis vont révéler des histoires aussi intimes et touchantes qu’inattendues. \nInfos & réservations : \n✉  4ever.impro@gmail.com \n☎  0476/78.38.71 \nTarifs : \nPrévente : 13€  /  Sur place : 15€ \nFormulaire de réservation
URL:https://lepoche.be/agenda/dimanche-15-fevrier-impro-4ever/
LOCATION:Le Poche Théâtre\, Rue du Fort\, 70\, Charleroi\, Hainaut\, 6000\, Belgique
CATEGORIES:Improvisation
ATTACH;FMTTYPE=image/jpeg:https://lepoche.be/wp-content/uploads/2026/01/4ever_750.jpg
ORGANIZER;CN="4Ever Impro":MAILTO:4ever.Impro@gmail.com
END:VEVENT
BEGIN:VEVENT
DTSTART;TZID=Europe/Paris:20260221T200000
DTEND;TZID=Europe/Paris:20260222T150000
DTSTAMP:20260421T154237
CREATED:20251018T141731Z
LAST-MODIFIED:20260221T135635Z
UID:3929-1771704000-1771772400@lepoche.be
SUMMARY:Les 21 et 22 février - Théâtre : La bonne adresse
DESCRIPTION:Jacqueline et Jeanine louent chacune une chambre chez Georgette\, ancienne star de music-hall qui vit depuis toujours avec sa bonne. \nElles décident toutes les quatre\, sans le savoir et le même jour\, de rédiger une petite annonce. \nGeorgette cherche un locataire. \nJacqueline\, la jeune peintre\, un modèle pour poser. \nJeanine un élève pour ses leçons de piano. \nMarie-Louise\, la bonne\, un petit ami. \nMais les annonces\, rédigées en abrégé\, sèment la confusion parmi les candidats qui\, s’ils sont à la bonne adresse\, ne sont pas au bout de leurs surprises ! \nEnfin une pièce où les hommes se dénudent plus que les femmes… 🤣🤣🤣 Quiproquos à gogo et rires garantis ! \nUne comédie de Marc Camoletti mise en scène par Lysiane Cornil. \nTarif: 15€ \nAchetez vos billets en ligne :\nVente de billets en ligne
URL:https://lepoche.be/agenda/les-21-et-22-fevrier-theatre-la-bonne-adresse/
LOCATION:Le Poche Théâtre\, Rue du Fort\, 70\, Charleroi\, Hainaut\, 6000\, Belgique
CATEGORIES:Théâtre
ATTACH;FMTTYPE=image/png:https://lepoche.be/wp-content/uploads/2025/10/adresse_sold_750.png
ORGANIZER;CN="Coeur en sc%C3%A8ne ASBL":MAILTO:coeurenscenecch@gmail.com
END:VEVENT
BEGIN:VEVENT
DTSTART;TZID=Europe/Paris:20260223T200000
DTEND;TZID=Europe/Paris:20260223T200000
DTSTAMP:20260421T154237
CREATED:20260121T223729Z
LAST-MODIFIED:20260304T095942Z
UID:4177-1771876800-1771876800@lepoche.be
SUMMARY:Lundi 23 février - Les lundis du Poche 2.0 : Adrien Dolimont
DESCRIPTION:Un invité emblématique\, des chroniqueurs\, une scène et un public… c’est la recette des « Lundis du Poche 2.0 »\, qui reviennent dans une version remplie d’humour et de dérision sous forme d’un talk-show basé sur une revue de l’actualité décomplexée\, le tout entièrement filmé à la façon d’une émission télévisée. \n \nTarif : 10€
URL:https://lepoche.be/agenda/lundi-23-fevrier-les-lundis-du-poche-2-0-adrien-dolimont/
LOCATION:Le Poche Théâtre\, Rue du Fort\, 70\, Charleroi\, Hainaut\, 6000\, Belgique
CATEGORIES:Talk-show
ATTACH;FMTTYPE=image/png:https://lepoche.be/wp-content/uploads/2026/01/LDP-Affiche-Adrien-Dolimont_750.png
ORGANIZER;CN="Le Poche":MAILTO:info@lepoche.be
END:VEVENT
BEGIN:VEVENT
DTSTART;TZID=Europe/Paris:20260226T200000
DTEND;TZID=Europe/Paris:20260227T200000
DTSTAMP:20260421T154237
CREATED:20260126T204134Z
LAST-MODIFIED:20260126T212052Z
UID:4204-1772136000-1772222400@lepoche.be
SUMMARY:Les 26 et 27 février - Théâtre : À cheval sur le dos des oiseaux
DESCRIPTION:Carine est une mère un peu bancale qui met beaucoup de cœur à élever seule un enfant de deux ans probablement autiste\, Logan. \nSuite à un incident domestique\, cet enfant lui a été retiré par la justice. \nElle plaide coupable avec une déconcertante honnêteté tout en s’évertuant à convaincre son auditoire que Logan serait mieux avec elle\, en cherchant à le mettre dans sa poche avec un humour désarmant. \nLa comédienne\, Luciana Ruggeri\, récemment pré-pensionnée après 34 ans d’enseignement dans la section maternelle d’une école à discrimination positive à Châtelineau\, est une passionnée de théâtre qui a suivi différents cursus auprès de plusieurs professeurs. \nLuciana a trop souvent eu l’occasion de croiser sur sa route des petits Logan et des Carine et a pu constater les conséquences de la précarité ou de la pauvreté sur les familles\, les difficultés que cela pouvait engendrer dans le quotidien. \nElle a accompagné et soutenu comme elle a pu certaines situations assez similaires\, en nourrissant parfois un sentiment d’impuissance\, qu’elle a cherché à transcender ici. \nInfos & réservations : \n☎  0495/73 86 38 \nTarifs: \nPrévente: 12€ / Sur place: 15€
URL:https://lepoche.be/agenda/les-26-et-27-fevrier-theatre-a-cheval-sur-le-dos-des-oiseaux/
LOCATION:Le Poche Théâtre\, Rue du Fort\, 70\, Charleroi\, Hainaut\, 6000\, Belgique
CATEGORIES:Théâtre
ATTACH;FMTTYPE=image/png:https://lepoche.be/wp-content/uploads/2026/01/Cheval-1_750.png
END:VEVENT
BEGIN:VEVENT
DTSTART;TZID=Europe/Paris:20260228T160000
DTEND;TZID=Europe/Paris:20260228T160000
DTSTAMP:20260421T154237
CREATED:20260126T211456Z
LAST-MODIFIED:20260126T211456Z
UID:4214-1772294400-1772294400@lepoche.be
SUMMARY:Samedi 28 février - Contes en Poche : Les goûters contés
DESCRIPTION:« Une graine dans l’oreille » \nSalut ! Moi c’est Yann. \nIl y a très longtemps\, en me promenant pieds nus dans les prés\, le vent a déposé dans mon oreille droite des graines d’histoires. \nElles ont pris de longues années à pousser\, mais aujourd’hui il est temps que je te les raconte à mon tour\, pour que tu puisses un jour les raconter. \nJe t’attends\, impatient de planter mes graines d’historiettes dans tes oreilles. \nSpectacle conté de et par Yann Lejeune. \nPublic : enfants à partir de 6 ans. \nInfos & réservations : \n✉  maisonducontecharleroi@gmail.com \n☎  0475/64.95.38 \nTarifs : 10€  /  Enfants : 8€   (collation incluse) \nAchetez vos billets en ligne :\nVente de billets en ligne
URL:https://lepoche.be/agenda/samedi-28-fevrier-contes-en-poche-les-gouters-contes/
LOCATION:Le Poche Théâtre\, Rue du Fort\, 70\, Charleroi\, Hainaut\, 6000\, Belgique
CATEGORIES:Conte
ATTACH;FMTTYPE=image/jpeg:https://lepoche.be/wp-content/uploads/2026/01/gouter-28-02_750.jpg
ORGANIZER;CN="La Maison du Conte de Charleroi":MAILTO:maisonducontecharleroi@gmail.com
END:VEVENT
END:VCALENDAR