BEGIN:VCALENDAR
VERSION:2.0
PRODID:-// - ECPv6.15.20//NONSGML v1.0//EN
CALSCALE:GREGORIAN
METHOD:PUBLISH
X-ORIGINAL-URL:https://lepoche.be
X-WR-CALDESC:Évènements pour 
REFRESH-INTERVAL;VALUE=DURATION:PT1H
X-Robots-Tag:noindex
X-PUBLISHED-TTL:PT1H
BEGIN:VTIMEZONE
TZID:Europe/Paris
BEGIN:DAYLIGHT
TZOFFSETFROM:+0100
TZOFFSETTO:+0200
TZNAME:CEST
DTSTART:20250330T010000
END:DAYLIGHT
BEGIN:STANDARD
TZOFFSETFROM:+0200
TZOFFSETTO:+0100
TZNAME:CET
DTSTART:20251026T010000
END:STANDARD
BEGIN:DAYLIGHT
TZOFFSETFROM:+0100
TZOFFSETTO:+0200
TZNAME:CEST
DTSTART:20260329T010000
END:DAYLIGHT
BEGIN:STANDARD
TZOFFSETFROM:+0200
TZOFFSETTO:+0100
TZNAME:CET
DTSTART:20261025T010000
END:STANDARD
BEGIN:DAYLIGHT
TZOFFSETFROM:+0100
TZOFFSETTO:+0200
TZNAME:CEST
DTSTART:20270328T010000
END:DAYLIGHT
BEGIN:STANDARD
TZOFFSETFROM:+0200
TZOFFSETTO:+0100
TZNAME:CET
DTSTART:20271031T010000
END:STANDARD
END:VTIMEZONE
BEGIN:VEVENT
DTSTART;TZID=Europe/Paris:20260301T150000
DTEND;TZID=Europe/Paris:20260301T150000
DTSTAMP:20260421T135453
CREATED:20260205T120347Z
LAST-MODIFIED:20260205T120632Z
UID:4224-1772377200-1772377200@lepoche.be
SUMMARY:Dimanche 1er mars - Concert : Hommage musical à Annie Cordy
DESCRIPTION:Il y a 5 ans déjà\, Annie Cordy nous quittait. \nJean Pierre Bruno a voulu lui rendre hommage avec ce spectacle. \nC’est à Fabienne Bury que revient l’honneur d’interpréter ses chansons\, ce qu’elle fait très bien\, sans copier Annie comme certaines l’ont fait\, car personne n’arrive à la hauteur de la cheville de notre Annie Cordy. \nIl lui fallait un artiste pour lui donner la réplique comme son partenaire André Bourvil. Là aussi il est impossible de le remplacer. C’est Rolando qui interprètera ses chansons mais avec sa propre personnalité. \nEnfin\, Marie-Christine Garcia sera de la partie également dans le répertoire Ginette Réno\, Joséphine Baker et Edith Piaf. \nBien entendu\, Jean Pierre Bruno ne pouvait rester sans participer à cette hommage\, qui sera présenté sous forme de revue\, si chère à Annie Cordy. \nInfos & réservations : \n✉  jeanpierrebruno@hotmail.com \n☎  0467/33.58.58 \nTarif : 20€
URL:https://lepoche.be/agenda/dimanche-1er-mars-concert-hommage-musical-a-annie-cordy/
LOCATION:Le Poche Théâtre\, Rue du Fort\, 70\, Charleroi\, Hainaut\, 6000\, Belgique
CATEGORIES:Concert
ATTACH;FMTTYPE=image/png:https://lepoche.be/wp-content/uploads/2026/02/CORDY_750.png
ORGANIZER;CN="Jean-Pierre Bruno":MAILTO:jeanpierrebruno@hotmail.com
END:VEVENT
BEGIN:VEVENT
DTSTART;TZID=Europe/Paris:20260306T200000
DTEND;TZID=Europe/Paris:20260308T160000
DTSTAMP:20260421T135453
CREATED:20260108T001257Z
LAST-MODIFIED:20260108T001848Z
UID:4127-1772827200-1772985600@lepoche.be
SUMMARY:Du 6 au 8 mars - Théâtre : Le Chat
DESCRIPTION:Marguerite et Emile forment un de ces couples maudits qui transforment l’amour en haine\, à la vie\, à la mort. \nIls ont mêlé leur solitude sur le tard\, mais leurs origines sociales différentes les écartèlent au quotidien. \nC’est sur leurs animaux respectifs\, un chat et un perroquet\, qu’ils exercent leurs pulsions hostiles : elle élimine le chat de Monsieur\, tandis que lui s’acharne sur le perroquet de Madame. \nIls en viendront à ne plus communiquer qu’occasionnellement et qu’à travers des bouts de papier. \nLa structure de la pièce est une succession de flash-back qui invite le spectateur à voyager dans les différentes époques du parcours du couple. \nLe spectateur devient le témoin des comportements qui ont amené ce couple à se détruire. \nIl y aura 3 époques différentes qui seront annoncées par un basculement d’ambiance de l’éclairage : la rencontre\, la rancœur et la guerre froide. \nPour séparer encore plus ces époques\, les comédiens seront différents : \n– Annick DUFOUR et Didier LAHOGUE : Marguerite et Emile\, époque de la rencontre. \n– Anne-Marie GREGOIRE et Maurice LEBRUN : Marguerite et Emile\, époque de la rancœur et époque de la guerre froide. \nInfos & réservations : \n☎  0496/52 90 86 \nTarif: 15€
URL:https://lepoche.be/agenda/du-6-au-8-mars-theatre-le-chat/
LOCATION:Le Poche Théâtre\, Rue du Fort\, 70\, Charleroi\, Hainaut\, 6000\, Belgique
CATEGORIES:Théâtre
ATTACH;FMTTYPE=image/png:https://lepoche.be/wp-content/uploads/2026/01/Le-chat-affiche_750.png
END:VEVENT
BEGIN:VEVENT
DTSTART;TZID=Europe/Paris:20260308T103000
DTEND;TZID=Europe/Paris:20260308T103000
DTSTAMP:20260421T135453
CREATED:20260225T181419Z
LAST-MODIFIED:20260225T181707Z
UID:4298-1772965800-1772965800@lepoche.be
SUMMARY:Dimanche 8 mars - Contes en poche : Les doux dimanches contés
DESCRIPTION:Que cache « La Valise à histoires » ? 🤔 \nC’est le secret que Ria Carbonez s’apprête à dévoiler aux plus petits ! \nVenez découvrir un spectacle où le hasard mène la danse : des récits d’hier\, des contes d’aujourd’hui\, et des rires pour grandir. \nPublic : enfants 1-5 ans \nInfos & réservations : \n✉  maisonducontecharleroi@gmail.com \n☎  0475/64.95.38 \nTarifs : 10€  /  Enfants : 8€ \nAchetez vos billets en ligne :\nVente de billets en ligne
URL:https://lepoche.be/agenda/dimanche-8-mars-contes-en-poche-les-doux-dimanches-contes/
LOCATION:Le Poche Théâtre\, Rue du Fort\, 70\, Charleroi\, Hainaut\, 6000\, Belgique
CATEGORIES:Conte
ATTACH;FMTTYPE=image/jpeg:https://lepoche.be/wp-content/uploads/2026/02/dimanche-08-03_750.jpg
ORGANIZER;CN="La Maison du Conte de Charleroi":MAILTO:maisonducontecharleroi@gmail.com
END:VEVENT
BEGIN:VEVENT
DTSTART;TZID=Europe/Paris:20260312T200000
DTEND;TZID=Europe/Paris:20260315T150000
DTSTAMP:20260421T135453
CREATED:20250702T194453Z
LAST-MODIFIED:20260215T210249Z
UID:3647-1773345600-1773586800@lepoche.be
SUMMARY:Du 12 au 15 mars - Théâtre : Tais-toi et rame
DESCRIPTION:Un couple de kidnappeurs amateurs enlève une femme\, qui s’attache à eux au point de ne plus vouloir être libérée. \nLe mari de celle-ci non seulement n’a pas l’intention de payer la rançon\, mais les menace d’avertir la police s’ils ne tuent pas son épouse\, qu’il s’apprêtait lui-même à supprimer. \nL’arrivée inopinée d’un ami pleurnichard et encombrant complique un peu plus cette situation vaudevillesque ! \nInfos & réservations : \n✉  annick.poulicheprod@gmail.com \n☎  0494/40.34.34 \nTarifs : 17€/15€ (prévente) / Moins de 26 ans : 12€/10€ (prévente) \nLe spectacle fait également partie de l’abonnement du Poche 2025-2026.
URL:https://lepoche.be/agenda/du-12-au-15-mars-theatre-tais-toi-et-rame/
LOCATION:Le Poche Théâtre\, Rue du Fort\, 70\, Charleroi\, Hainaut\, 6000\, Belgique
CATEGORIES:Théâtre
ATTACH;FMTTYPE=image/png:https://lepoche.be/wp-content/uploads/2025/07/Tais-toi-et-rame-3_750.png
ORGANIZER;CN="Pouliche Prod":MAILTO:annick.poulicheprod@gmail.com
END:VEVENT
BEGIN:VEVENT
DTSTART;TZID=Europe/Paris:20260316T200000
DTEND;TZID=Europe/Paris:20260316T200000
DTSTAMP:20260421T135453
CREATED:20260225T142033Z
LAST-MODIFIED:20260225T142033Z
UID:4285-1773691200-1773691200@lepoche.be
SUMMARY:Lundi 16 mars - Les lundis du Poche 2.0 : Tamara Payne
DESCRIPTION:Un invité emblématique\, des chroniqueurs\, une scène et un public… c’est la recette des « Lundis du Poche 2.0 »\, qui reviennent dans une version remplie d’humour et de dérision sous forme d’un talk-show basé sur une revue de l’actualité décomplexée\, le tout entièrement filmé à la façon d’une émission télévisée. \n \nTarif : 10€ \nAchetez vos billets en ligne :\nVente de billets en ligne
URL:https://lepoche.be/agenda/lundi-16-mars-les-lundis-du-poche-2-0-tamara-payne/
LOCATION:Le Poche Théâtre\, Rue du Fort\, 70\, Charleroi\, Hainaut\, 6000\, Belgique
CATEGORIES:Talk-show
ATTACH;FMTTYPE=image/png:https://lepoche.be/wp-content/uploads/2026/02/LDP-Tamara-Payne_750.png
ORGANIZER;CN="Le Poche":MAILTO:info@lepoche.be
END:VEVENT
BEGIN:VEVENT
DTSTART;TZID=Europe/Paris:20260318T193000
DTEND;TZID=Europe/Paris:20260318T193000
DTSTAMP:20260421T135453
CREATED:20260219T161305Z
LAST-MODIFIED:20260219T161340Z
UID:4266-1773862200-1773862200@lepoche.be
SUMMARY:Mercredi 18 mars - Show Case : Saison 9 #2
DESCRIPTION:Projet initié par l’Athénée Royal Vauban\, en collaboration avec le conservatoire Arthur Grumiaux. \nUn spectacle mélangeant théâtre\, danse\, musique\, improvisation et humour pour une soirée en toute simplicité\, à la découverte de jeunes talents. \nTarif : 8 € \nInfos & réservations : \n✉  info@lepoche.be \n☎  0493/766.755 \nAchetez vos billets en ligne :\nVente de billets en ligne
URL:https://lepoche.be/agenda/mercredi-18-mars-show-case-saison-9-2/
LOCATION:Le Poche Théâtre\, Rue du Fort\, 70\, Charleroi\, Hainaut\, 6000\, Belgique
CATEGORIES:Danse,Humour,Improvisation,Théâtre
ATTACH;FMTTYPE=image/png:https://lepoche.be/wp-content/uploads/2026/02/show-case-4_750.png
ORGANIZER;CN="Le Poche":MAILTO:info@lepoche.be
END:VEVENT
BEGIN:VEVENT
DTSTART;TZID=Europe/Paris:20260320T203000
DTEND;TZID=Europe/Paris:20260320T203000
DTSTAMP:20260421T135454
CREATED:20260225T180321Z
LAST-MODIFIED:20260225T180321Z
UID:4292-1774038600-1774038600@lepoche.be
SUMMARY:Vendredi 20 mars - Conte : Quelles mères\, quelles filles ?
DESCRIPTION:« Quelles mères\, quelles filles ? » : Un voyage au cœur de l’intime. ✨ \nEntre contes\, chants et danse\, Nina Eeklaer et Magali Mineur vous transportent dans un spectacle d’une sensibilité rare. \nUn moment suspendu pour explorer ce lien universel\, à la fois tendre et complexe\, qui nous unit tous. \nVenez vibrer en famille ou entre proches pour cette escale poétique unique ! \nInfos & réservations : \n\n✉  maisonducontecharleroi@gmail.com \n☎  0475/64.95.38 \nTarifs : 17€  /  Enfants -12 ans & associations : 10€ \nAchetez vos billets en ligne :\nVente de billets en ligne
URL:https://lepoche.be/agenda/vendredi-20-mars-conte-quelles-meres-quelles-filles/
LOCATION:Le Poche Théâtre\, Rue du Fort\, 70\, Charleroi\, Hainaut\, 6000\, Belgique
CATEGORIES:Conte,Danse
ATTACH;FMTTYPE=image/jpeg:https://lepoche.be/wp-content/uploads/2026/02/quelles-meres_750.jpg
ORGANIZER;CN="La Maison du Conte de Charleroi":MAILTO:maisonducontecharleroi@gmail.com
END:VEVENT
BEGIN:VEVENT
DTSTART;TZID=Europe/Paris:20260321T200000
DTEND;TZID=Europe/Paris:20260321T200000
DTSTAMP:20260421T135454
CREATED:20250820T194621Z
LAST-MODIFIED:20250820T194621Z
UID:3720-1774123200-1774123200@lepoche.be
SUMMARY:Samedi 21 mars - Eric Boschman : Ni dieux\, ni maîtres\, mais du rouge
DESCRIPTION:Le Wine Man Show by Eric Boschman « Ni dieux\, ni maître\, mais du rouge »\, c’est un litre et demi d’improvisations et de bonheurs ! \nUn spectacle à boire : l’histoire du vin racontée par le plus « barge » des sommeliers ! \nDevenez goûteur en vous instruisant. \nEric Boschman\, sommelier belge mondialement connu\, présente un véritable « wine man show » autour des vignes et des vins du monde. \nDrôlement impertinent\, professeur improvisé\, il traverse la grande Histoire\, et nous trimbale dans les vignobles de la Grèce au Liban\, du Chili à l’Argentine et l’Europe. \nEt de voyages en voyages\, il nous met cul par-dessus tête et nous enivre autant d’anecdotes que de ce nectar qui accompagne nos vies depuis des millénaires. \nEn passionné\, Eric Boschman partage « son gai savoir » à la manière d’un Rabelais moderne\, avec beaucoup d’esprit et une certaine irrévérence. \nMais que voulez-vous\, il n’a ni Dieu\, ni maître… Si vous aimez le rouge (ou le blanc)\, n’hésitez pas un seul instant ! Tchin ! \n \nTarif : 25€ \nAchetez vos billets en ligne :\nVente de billets en ligne
URL:https://lepoche.be/agenda/samedi-21-mars-eric-boschman-ni-dieux-ni-maitres-mais-du-rouge/
LOCATION:Le Poche Théâtre\, Rue du Fort\, 70\, Charleroi\, Hainaut\, 6000\, Belgique
CATEGORIES:Humour
ATTACH;FMTTYPE=image/png:https://lepoche.be/wp-content/uploads/2025/08/Wine2026_750.png
ORGANIZER;CN="Le Poche":MAILTO:info@lepoche.be
END:VEVENT
BEGIN:VEVENT
DTSTART;TZID=Europe/Paris:20260326T200000
DTEND;TZID=Europe/Paris:20260328T200000
DTSTAMP:20260421T135454
CREATED:20260206T120639Z
LAST-MODIFIED:20260206T124940Z
UID:4232-1774555200-1774728000@lepoche.be
SUMMARY:Du 26 au 28 mars - Théâtre : Dérapage
DESCRIPTION:Henri et Thérèse\, un couple ennuyeux et ennuyant se reposent\, comme chaque année dans cette merveilleuse région du Vaucluse\, tout près d’Avignon. \nEugène\, le meilleur ami d’Henri\, bipolaire olympique les rejoint pour accompagner ces longues journées où rien ne se passe… \nBien au contraire\, ses folles ambitions amoureuses vont pimenter les bains de soleil… \nS’ils devaient se reposer\, c’est loupé… \nAvec Maxime Thierry\, Dominique Panpan Samain\, Amine Belkacem & Rafie Dooms dans une mise en scène de Dany Marbaix. \nUne adaptation déjantée du « Chant des Cygales »\, pièce totalement inconnue d’un vieil auteur belge\, lui aussi inconnu. \nNotre avis : Une pièce qui revient d’Avignon\, remportant un franc succès\, avec un casting 6 étoiles offrant 2 visions totalement différentes du théâtre\, et tout cela en 2 actes bien différents ! \nTarif : 16€ \nAchetez vos billets en ligne :\nVente de billets en ligne
URL:https://lepoche.be/agenda/du-26-au-28-mars-theatre-derapage/
LOCATION:Le Poche Théâtre\, Rue du Fort\, 70\, Charleroi\, Hainaut\, 6000\, Belgique
CATEGORIES:Théâtre
ATTACH;FMTTYPE=image/jpeg:https://lepoche.be/wp-content/uploads/2026/02/DERAPAGE_750-1.jpg
ORGANIZER;CN="La Clanche Th%C3%A9%C3%A2tre":MAILTO:laclanche.theatre@gmail.com
END:VEVENT
END:VCALENDAR